BEGIN:VCALENDAR
VERSION:2.0
PRODID:-//NADI Felda Jengka 16 - ECPv6.15.13.1//NONSGML v1.0//EN
CALSCALE:GREGORIAN
METHOD:PUBLISH
X-WR-CALNAME:NADI Felda Jengka 16
X-ORIGINAL-URL:https://jengka16.nadi.my
X-WR-CALDESC:Events for NADI Felda Jengka 16
REFRESH-INTERVAL;VALUE=DURATION:PT1H
X-Robots-Tag:noindex
X-PUBLISHED-TTL:PT1H
BEGIN:VTIMEZONE
TZID:UTC
BEGIN:STANDARD
TZOFFSETFROM:+0000
TZOFFSETTO:+0000
TZNAME:UTC
DTSTART:20230101T000000
END:STANDARD
END:VTIMEZONE
BEGIN:VEVENT
DTSTART;TZID=UTC:20241205T150000
DTEND;TZID=UTC:20241205T160000
DTSTAMP:20260426T012527
CREATED:20241216T194209Z
LAST-MODIFIED:20241216T194209Z
UID:3543-1733410800-1733414400@jengka16.nadi.my
SUMMARY:WEBINAR LATIHAN NADI X KEUSAHAWANAN PERNIAGAAN 101: E-INVOICE & PEMATUHAN PERNIAGAAN
DESCRIPTION:Sesi Webinar Latihan NADI X Keusahawanan pada kali ini melibatkan perkongsian tentang E-Invoice & Pematuhan Perniagaan.Perkongsian ini disampaikan oleh EncikbSyaamil Razak.
URL:https://jengka16.nadi.my/event/webinar-latihan-nadi-x-keusahawanan-perniagaan-101-e-invoice-pematuhan-perniagaan/
LOCATION:NADI FELDA JENGKA 16\, BLOK DEWAN JKKR FELDA JENGKA 16\, BANDAR JENGKA\, PAHANG\, 26400\, Malaysia
END:VEVENT
END:VCALENDAR