BEGIN:VCALENDAR
VERSION:2.0
PRODID:-//NADI Felda Jengka 16 - ECPv6.15.13.1//NONSGML v1.0//EN
CALSCALE:GREGORIAN
METHOD:PUBLISH
X-WR-CALNAME:NADI Felda Jengka 16
X-ORIGINAL-URL:https://jengka16.nadi.my
X-WR-CALDESC:Events for NADI Felda Jengka 16
REFRESH-INTERVAL;VALUE=DURATION:PT1H
X-Robots-Tag:noindex
X-PUBLISHED-TTL:PT1H
BEGIN:VTIMEZONE
TZID:UTC
BEGIN:STANDARD
TZOFFSETFROM:+0000
TZOFFSETTO:+0000
TZNAME:UTC
DTSTART:20240101T000000
END:STANDARD
END:VTIMEZONE
BEGIN:VEVENT
DTSTART;TZID=UTC:20250315T080000
DTEND;TZID=UTC:20250315T170000
DTSTAMP:20260426T084637
CREATED:20250319T195853Z
LAST-MODIFIED:20250319T200325Z
UID:4046-1742025600-1742058000@jengka16.nadi.my
SUMMARY:NADI E-SUKAN: PERTANDINGAN MOBILE LEGEND BANG BANG SARINGAN PERINGKAT NADI FELDA JENGKA 16
DESCRIPTION:Tarikh: 15 Mac 2025 \nMasa: 9:30 pagi – 12:30 Tengah hari \nTempat: NADI Felda Jengka 16′
URL:https://jengka16.nadi.my/event/nadi-e-sukan-pertandingan-mobile-legend-bang-bang-saringan-peringkat-nadi-felda-jengka-16/
LOCATION:PAHANG
END:VEVENT
END:VCALENDAR