BEGIN:VCALENDAR
VERSION:2.0
PRODID:-//NADI Felda Jengka 16 - ECPv6.15.13.1//NONSGML v1.0//EN
CALSCALE:GREGORIAN
METHOD:PUBLISH
X-WR-CALNAME:NADI Felda Jengka 16
X-ORIGINAL-URL:https://jengka16.nadi.my
X-WR-CALDESC:Events for NADI Felda Jengka 16
REFRESH-INTERVAL;VALUE=DURATION:PT1H
X-Robots-Tag:noindex
X-PUBLISHED-TTL:PT1H
BEGIN:VTIMEZONE
TZID:UTC
BEGIN:STANDARD
TZOFFSETFROM:+0000
TZOFFSETTO:+0000
TZNAME:UTC
DTSTART:20240101T000000
END:STANDARD
END:VTIMEZONE
BEGIN:VEVENT
DTSTART;TZID=UTC:20250610T153000
DTEND;TZID=UTC:20250613T160000
DTSTAMP:20260424T203424
CREATED:20250531T190506Z
LAST-MODIFIED:20250531T190519Z
UID:4470-1749569400-1749830400@jengka16.nadi.my
SUMMARY:NADI DILEA: ENGLISH PROFICIENCY - LESSON 10
DESCRIPTION:
URL:https://jengka16.nadi.my/event/nadi-dilea-english-proficiency-lesson-10/
LOCATION:PAHANG
END:VEVENT
BEGIN:VEVENT
DTSTART;TZID=UTC:20250613T030000
DTEND;TZID=UTC:20250613T170000
DTSTAMP:20260424T203424
CREATED:20250604T232340Z
LAST-MODIFIED:20250604T232340Z
UID:4488-1749783600-1749834000@jengka16.nadi.my
SUMMARY:WEBINAR NADI x CYBERSECURITY - LINDUNGI IDENTITI DIGITAL ANDA (Secure Online Presence)
DESCRIPTION:Assalamualaikum & jom sertai kami! \n[WEBINAR NADI x CYBERSECURITY]\n🛡 LINDUNGI IDENTITI DIGITAL ANDA (Secure Online Presence) \n📅 13 Jun 2025 (Jumaat)\n🕒 3:30 PM – 5:00 PM\n💻 Platform: Zoom (Live Streaming) – NADI Felda Jengka 16 \n📌 Antara yang akan dipelajari:\n🔐 Kebocoran Data & Serangan Siber\n🌐 Dark Web & Risiko Digital\n🎯 Teknik LTLR: Less Target\, Less Risk\n🧠 Bonus: Demonstrasi teknik keselamatan digital & contoh serangan sebenar \n✅ Syarat penyertaan: \nWajib berdaftar sebagai ahli NADI \nPercuma! Tapi slot adalah TERHAD  \n📖 “Ilmu itu lebih baik daripada kekayaan\, kerana kekayaan perlu dijaga\, sedangkan ilmu menjaga kamu.”\n— Ali bin Abi Thalib \n📥 Jom daftar segera sebelum penuh! \nMaklumat lanjut: Hubungi petugas atau kunjungi NADI Felda Jengka 16.
URL:https://jengka16.nadi.my/event/webinar-nadi-x-cybersecurity-lindungi-identiti-digital-anda-secure-online-presence/
LOCATION:NADI FELDA JENGKA 16\, BLOK DEWAN JKKR FELDA JENGKA 16\, BANDAR JENGKA\, PAHANG\, 26400\, Malaysia
END:VEVENT
END:VCALENDAR