BEGIN:VCALENDAR
VERSION:2.0
PRODID:-//NADI Felda Jengka 16 - ECPv6.15.13.1//NONSGML v1.0//EN
CALSCALE:GREGORIAN
METHOD:PUBLISH
X-WR-CALNAME:NADI Felda Jengka 16
X-ORIGINAL-URL:https://jengka16.nadi.my
X-WR-CALDESC:Events for NADI Felda Jengka 16
REFRESH-INTERVAL;VALUE=DURATION:PT1H
X-Robots-Tag:noindex
X-PUBLISHED-TTL:PT1H
BEGIN:VTIMEZONE
TZID:UTC
BEGIN:STANDARD
TZOFFSETFROM:+0000
TZOFFSETTO:+0000
TZNAME:UTC
DTSTART:20240101T000000
END:STANDARD
END:VTIMEZONE
BEGIN:VEVENT
DTSTART;TZID=UTC:20250628T143000
DTEND;TZID=UTC:20250628T163000
DTSTAMP:20260424T181133
CREATED:20250620T145903Z
LAST-MODIFIED:20250620T145903Z
UID:4543-1751121000-1751128200@jengka16.nadi.my
SUMMARY:DILEA: WEBINAR BERKALA SEJARAH – EDISI KEDUA: TEKNIK SKOR SEJARAH A
DESCRIPTION:PROGRAM KHAS SEJARAH  \n Pelajar Tingkatan 4 & 5\, ini peluang emas untuk anda! \n Webinar Berkala Sejarah – Edisi Kedua : \nTeknik Skor Sejarah A \n Sabtu | 28 Jun 2025 \n 2.30PM-4.30PM \n NADI Felda Jengka 16 \n Disampaikan oleh Cikgu Rafi\, Penceramah Teknik Menjawab Sejarah SPM \n ΚΕΝΑΡA ANDA PERLU JOIN ? \nFaham Format dan Gaya Soalan Sejarah SPM \nBelajar Teknik Menjawab Soalan KBAT dan Esei \nUlang Kaji Pintar & Fokus Topik Penting \nBimbingan terus daripada guru berpengalaman! \n LIVE & PERCUMA! \nJangan lepaskan peluang untuk tingkatkan kemahiran menjawab kertas sejarah anda. Jom sertai bersama rakan-rakan!
URL:https://jengka16.nadi.my/event/dilea-webinar-berkala-sejarah-edisi-kedua-teknik-skor-sejarah-a/
LOCATION:PAHANG
END:VEVENT
END:VCALENDAR