BEGIN:VCALENDAR
VERSION:2.0
PRODID:-//NADI Felda Jengka 16 - ECPv6.15.13.1//NONSGML v1.0//EN
CALSCALE:GREGORIAN
METHOD:PUBLISH
X-WR-CALNAME:NADI Felda Jengka 16
X-ORIGINAL-URL:https://jengka16.nadi.my
X-WR-CALDESC:Events for NADI Felda Jengka 16
REFRESH-INTERVAL;VALUE=DURATION:PT1H
X-Robots-Tag:noindex
X-PUBLISHED-TTL:PT1H
BEGIN:VTIMEZONE
TZID:UTC
BEGIN:STANDARD
TZOFFSETFROM:+0000
TZOFFSETTO:+0000
TZNAME:UTC
DTSTART:20240101T000000
END:STANDARD
END:VTIMEZONE
BEGIN:VEVENT
DTSTART;TZID=UTC:20250707T143000
DTEND;TZID=UTC:20250707T160000
DTSTAMP:20260424T181002
CREATED:20250704T200026Z
LAST-MODIFIED:20250704T200026Z
UID:4681-1751898600-1751904000@jengka16.nadi.my
SUMMARY:MAHIR JAHIT: BUAT BEG SENDIRI? JOM BELAJAR JAHIT TOTE BAG!
DESCRIPTION:Tarikh: 7 Julai 2025 (Isnin) \nTempat: NADI Felda Jengka 16 \nMasa: 2:30 PM – 4:00 PM
URL:https://jengka16.nadi.my/event/mahir-jahit-buat-beg-sendiri-jom-belajar-jahit-tote-bag/
LOCATION:NADI FELDA JENGKA 16\, BLOK DEWAN JKKR FELDA JENGKA 16\, BANDAR JENGKA\, PAHANG\, 26400\, Malaysia
END:VEVENT
END:VCALENDAR