BEGIN:VCALENDAR
VERSION:2.0
PRODID:-//NADI Felda Jengka 16 - ECPv6.15.13.1//NONSGML v1.0//EN
CALSCALE:GREGORIAN
METHOD:PUBLISH
X-WR-CALNAME:NADI Felda Jengka 16
X-ORIGINAL-URL:https://jengka16.nadi.my
X-WR-CALDESC:Events for NADI Felda Jengka 16
REFRESH-INTERVAL;VALUE=DURATION:PT1H
X-Robots-Tag:noindex
X-PUBLISHED-TTL:PT1H
BEGIN:VTIMEZONE
TZID:UTC
BEGIN:STANDARD
TZOFFSETFROM:+0000
TZOFFSETTO:+0000
TZNAME:UTC
DTSTART:20240101T000000
END:STANDARD
END:VTIMEZONE
BEGIN:VEVENT
DTSTART;TZID=UTC:20250712T100000
DTEND;TZID=UTC:20250712T120000
DTSTAMP:20260424T053835
CREATED:20250708T174222Z
LAST-MODIFIED:20250708T174222Z
UID:4695-1752314400-1752321600@jengka16.nadi.my
SUMMARY:TINY TECHIES: BENGKEL ULANGKAJI MENENGAH (13-17 TAHUN)
DESCRIPTION:Assalamualaikum & selamat pagi. \nKami mengalu-alukan penyertaan anak-anak tuan / puan yang berminat untuk sertai sesi ini. \n1. Membuat ulangkaji bersama. \n2. Memahami konsep Design Thinking untuk tujuan membuat prototaip. \n3. Membuat skrip pitching untuk Pertandingan Inovasi. \nTerima kasih.😊
URL:https://jengka16.nadi.my/event/tiny-techies-bengkel-ulangkaji-menengah-13-17-tahun/
LOCATION:NADI FELDA JENGKA 16\, BLOK DEWAN JKKR FELDA JENGKA 16\, BANDAR JENGKA\, PAHANG\, 26400\, Malaysia
END:VEVENT
END:VCALENDAR