BEGIN:VCALENDAR
VERSION:2.0
PRODID:-//NADI Felda Jengka 16 - ECPv6.15.13.1//NONSGML v1.0//EN
CALSCALE:GREGORIAN
METHOD:PUBLISH
X-WR-CALNAME:NADI Felda Jengka 16
X-ORIGINAL-URL:https://jengka16.nadi.my
X-WR-CALDESC:Events for NADI Felda Jengka 16
REFRESH-INTERVAL;VALUE=DURATION:PT1H
X-Robots-Tag:noindex
X-PUBLISHED-TTL:PT1H
BEGIN:VTIMEZONE
TZID:UTC
BEGIN:STANDARD
TZOFFSETFROM:+0000
TZOFFSETTO:+0000
TZNAME:UTC
DTSTART:20240101T000000
END:STANDARD
END:VTIMEZONE
BEGIN:VEVENT
DTSTART;TZID=UTC:20250714T153000
DTEND;TZID=UTC:20250714T163000
DTSTAMP:20260424T022759
CREATED:20250704T200455Z
LAST-MODIFIED:20250704T200455Z
UID:4686-1752507000-1752510600@jengka16.nadi.my
SUMMARY:NADI DILEA: LIVE CLASS MATEMATIK TINGKATAN 4
DESCRIPTION:Tarikh: 14 Julai 2025 (Isnin) \nTempat: NADI Felda Jengka 16 \nMasa: 3:30 PM – 4:30 PM
URL:https://jengka16.nadi.my/event/nadi-dilea-live-class-matematik-tingkatan-4-2/
LOCATION:NADI FELDA JENGKA 16\, BLOK DEWAN JKKR FELDA JENGKA 16\, BANDAR JENGKA\, PAHANG\, 26400\, Malaysia
END:VEVENT
END:VCALENDAR