BEGIN:VCALENDAR
VERSION:2.0
PRODID:-//NADI Felda Jengka 16 - ECPv6.15.13.1//NONSGML v1.0//EN
CALSCALE:GREGORIAN
METHOD:PUBLISH
X-WR-CALNAME:NADI Felda Jengka 16
X-ORIGINAL-URL:https://jengka16.nadi.my
X-WR-CALDESC:Events for NADI Felda Jengka 16
REFRESH-INTERVAL;VALUE=DURATION:PT1H
X-Robots-Tag:noindex
X-PUBLISHED-TTL:PT1H
BEGIN:VTIMEZONE
TZID:UTC
BEGIN:STANDARD
TZOFFSETFROM:+0000
TZOFFSETTO:+0000
TZNAME:UTC
DTSTART:20240101T000000
END:STANDARD
END:VTIMEZONE
BEGIN:VEVENT
DTSTART;TZID=UTC:20250727T100000
DTEND;TZID=UTC:20250727T110000
DTSTAMP:20260424T053855
CREATED:20250723T181358Z
LAST-MODIFIED:20250723T181358Z
UID:4776-1753610400-1753614000@jengka16.nadi.my
SUMMARY:BENGKEL UNBOXING KIT TINY TECHIES - IoT (SEKOLAH MENENGAH)
DESCRIPTION:Tarikh: 27 Julai 2025 (Ahad) \nMasa: 10:00 Pagi – 11:00 Pagi \nTempat: NADI Felda Jengka 16
URL:https://jengka16.nadi.my/event/bengkel-unboxing-kit-tiny-techies-iot-sekolah-menengah/
LOCATION:NADI FELDA JENGKA 16\, BLOK DEWAN JKKR FELDA JENGKA 16\, BANDAR JENGKA\, PAHANG\, 26400\, Malaysia
END:VEVENT
END:VCALENDAR