BEGIN:VCALENDAR
VERSION:2.0
PRODID:-//NADI Felda Jengka 16 - ECPv6.15.13.1//NONSGML v1.0//EN
CALSCALE:GREGORIAN
METHOD:PUBLISH
X-WR-CALNAME:NADI Felda Jengka 16
X-ORIGINAL-URL:https://jengka16.nadi.my
X-WR-CALDESC:Events for NADI Felda Jengka 16
REFRESH-INTERVAL;VALUE=DURATION:PT1H
X-Robots-Tag:noindex
X-PUBLISHED-TTL:PT1H
BEGIN:VTIMEZONE
TZID:UTC
BEGIN:STANDARD
TZOFFSETFROM:+0000
TZOFFSETTO:+0000
TZNAME:UTC
DTSTART:20240101T000000
END:STANDARD
END:VTIMEZONE
BEGIN:VEVENT
DTSTART;TZID=UTC:20251013T153000
DTEND;TZID=UTC:20251013T163000
DTSTAMP:20260424T195011
CREATED:20251011T203608Z
LAST-MODIFIED:20251011T203927Z
UID:5080-1760369400-1760373000@jengka16.nadi.my
SUMMARY:NADI DILEA: TUISYEN RAKYAT - OPEN TUITION SEJARAH TINGKATAN 1 - 5
DESCRIPTION:Tarikh: 13 Oktober 2025 \nTempat: NADI Felda Jengka 16 \nMasa: 3:30 Petang – 4:30 Petang
URL:https://jengka16.nadi.my/event/nadi-dilea-tuisyen-rakyat-open-tuition-sejarah-tingkatan-1-5/
LOCATION:NADI FELDA JENGKA 16\, BLOK DEWAN JKKR FELDA JENGKA 16\, BANDAR JENGKA\, PAHANG\, 26400\, Malaysia
END:VEVENT
END:VCALENDAR