BEGIN:VCALENDAR
VERSION:2.0
PRODID:-//NADI Felda Jengka 16 - ECPv6.15.13.1//NONSGML v1.0//EN
CALSCALE:GREGORIAN
METHOD:PUBLISH
X-WR-CALNAME:NADI Felda Jengka 16
X-ORIGINAL-URL:https://jengka16.nadi.my
X-WR-CALDESC:Events for NADI Felda Jengka 16
REFRESH-INTERVAL;VALUE=DURATION:PT1H
X-Robots-Tag:noindex
X-PUBLISHED-TTL:PT1H
BEGIN:VTIMEZONE
TZID:UTC
BEGIN:STANDARD
TZOFFSETFROM:+0000
TZOFFSETTO:+0000
TZNAME:UTC
DTSTART:20240101T000000
END:STANDARD
END:VTIMEZONE
BEGIN:VEVENT
DTSTART;TZID=UTC:20251025T143000
DTEND;TZID=UTC:20251025T163000
DTSTAMP:20260423T163326
CREATED:20251021T173658Z
LAST-MODIFIED:20251021T173658Z
UID:5168-1761402600-1761409800@jengka16.nadi.my
SUMMARY:NADI DILEA: TUISYEN RAKYAT - PROGRAM KHAS WEBINAR BERKALA MATEMATIK TINGKATAN 1-5 EDISI 4 (TIP & TEKNIK PELAJAR CEMERLANG)
DESCRIPTION:Tarikh: 25 Oktober 2025 \nMasa: 2:3o Petang – 4:30 pPetang \nTempat: NADI Felda Jengka 16
URL:https://jengka16.nadi.my/event/nadi-dilea-tuisyen-rakyat-program-khas-webinar-berkala-matematik-tingkatan-1-5-edisi-4-tip-teknik-pelajar-cemerlang/
LOCATION:NADI FELDA JENGKA 16\, BLOK DEWAN JKKR FELDA JENGKA 16\, BANDAR JENGKA\, PAHANG\, 26400\, Malaysia
END:VEVENT
END:VCALENDAR