BEGIN:VCALENDAR
VERSION:2.0
PRODID:-//NADI Felda Jengka 16 - ECPv6.15.13.1//NONSGML v1.0//EN
CALSCALE:GREGORIAN
METHOD:PUBLISH
X-WR-CALNAME:NADI Felda Jengka 16
X-ORIGINAL-URL:https://jengka16.nadi.my
X-WR-CALDESC:Events for NADI Felda Jengka 16
REFRESH-INTERVAL;VALUE=DURATION:PT1H
X-Robots-Tag:noindex
X-PUBLISHED-TTL:PT1H
BEGIN:VTIMEZONE
TZID:UTC
BEGIN:STANDARD
TZOFFSETFROM:+0000
TZOFFSETTO:+0000
TZNAME:UTC
DTSTART:20240101T000000
END:STANDARD
END:VTIMEZONE
BEGIN:VEVENT
DTSTART;TZID=UTC:20251103T093000
DTEND;TZID=UTC:20251109T173000
DTSTAMP:20260421T222403
CREATED:20251031T204136Z
LAST-MODIFIED:20251031T204136Z
UID:5213-1762162200-1762709400@jengka16.nadi.my
SUMMARY:NADI DILEA: Tuisyen Rakyat – ENGLISH PROFICIENCY NOVEMBER 2025 LESSON 18 (TINGKATAN 4)
DESCRIPTION:Tarikh: 3-9 November 2025\nMasa: Waktu pembelajaran fleksibel\nTempat: NADI Felda Jengka 16
URL:https://jengka16.nadi.my/event/nadi-dilea-tuisyen-rakyat-english-proficiency-november-2025-lesson-18-tingkatan-4/
LOCATION:NADI FELDA JENGKA 16\, BLOK DEWAN JKKR FELDA JENGKA 16\, BANDAR JENGKA\, PAHANG\, 26400\, Malaysia
END:VEVENT
BEGIN:VEVENT
DTSTART;TZID=UTC:20251104T153000
DTEND;TZID=UTC:20251104T163000
DTSTAMP:20260421T222403
CREATED:20251031T204611Z
LAST-MODIFIED:20251031T204611Z
UID:5219-1762270200-1762273800@jengka16.nadi.my
SUMMARY:NADI DILEA: Tuisyen Rakyat – OPEN TUITION BAHASA INGGERIS TINGKATAN 1 - 5
DESCRIPTION:Tarikh: 4 November 2025 \nMasa: 3:30 Petang – 4:30 Petang \nTempat: NADI Felda Jengka 16
URL:https://jengka16.nadi.my/event/nadi-dilea-tuisyen-rakyat-open-tuition-bahasa-inggeris-tingkatan-1-5-2/
LOCATION:NADI FELDA JENGKA 16\, BLOK DEWAN JKKR FELDA JENGKA 16\, BANDAR JENGKA\, PAHANG\, 26400\, Malaysia
END:VEVENT
END:VCALENDAR