BEGIN:VCALENDAR
VERSION:2.0
PRODID:-//NADI Felda Jengka 16 - ECPv6.15.13.1//NONSGML v1.0//EN
CALSCALE:GREGORIAN
METHOD:PUBLISH
X-WR-CALNAME:NADI Felda Jengka 16
X-ORIGINAL-URL:https://jengka16.nadi.my
X-WR-CALDESC:Events for NADI Felda Jengka 16
REFRESH-INTERVAL;VALUE=DURATION:PT1H
X-Robots-Tag:noindex
X-PUBLISHED-TTL:PT1H
BEGIN:VTIMEZONE
TZID:UTC
BEGIN:STANDARD
TZOFFSETFROM:+0000
TZOFFSETTO:+0000
TZNAME:UTC
DTSTART:20240101T000000
END:STANDARD
END:VTIMEZONE
BEGIN:VEVENT
DTSTART;TZID=UTC:20251222T091500
DTEND;TZID=UTC:20251222T163000
DTSTAMP:20260422T222004
CREATED:20251221T145709Z
LAST-MODIFIED:20251221T150208Z
UID:5390-1766394900-1766421000@jengka16.nadi.my
SUMMARY:PROGRAM CUTI SEKOLAH @NADI: DILEA TUISYEN RAKYAT - LIVE WEBINAR BERSAMA MR ALGEBRA (TINGKATAN 1-5)
DESCRIPTION:Tarikh: 22 Disember 2025 \nMasa: 9:15 Pagi – 10:15 Pagi | 3:30 Petang – 4:30 Petang \nTempat: NADI Felda Jengka 16
URL:https://jengka16.nadi.my/event/program-cutu-sekolah-nadi-dilea-tuisyen-rakyat-live-webinar-bersama-mr-algebra/
LOCATION:NADI FELDA JENGKA 16\, BLOK DEWAN JKKR FELDA JENGKA 16\, BANDAR JENGKA\, PAHANG\, 26400\, Malaysia
END:VEVENT
BEGIN:VEVENT
DTSTART;TZID=UTC:20251222T100000
DTEND;TZID=UTC:20251222T110000
DTSTAMP:20260422T222004
CREATED:20251221T152904Z
LAST-MODIFIED:20251221T152904Z
UID:5407-1766397600-1766401200@jengka16.nadi.my
SUMMARY:PROGRAM CUTI SEKOLAH @NADI: EKELAS - LIVE WEBINAR: KID AI CONTENS
DESCRIPTION:Tarikh: 22 Disember 2025 \nMasa: 10:00 Pagi – 11:00 Pagi \nTempat: NADI Felda Jengka 16
URL:https://jengka16.nadi.my/event/program-cuti-sekolah-nadi-ekelas-live-webinar-kid-ai-contens/
LOCATION:NADI FELDA JENGKA 16\, BLOK DEWAN JKKR FELDA JENGKA 16\, BANDAR JENGKA\, PAHANG\, 26400\, Malaysia
END:VEVENT
BEGIN:VEVENT
DTSTART;TZID=UTC:20251222T100000
DTEND;TZID=UTC:20251222T110000
DTSTAMP:20260422T222004
CREATED:20251221T153723Z
LAST-MODIFIED:20251221T153723Z
UID:5420-1766397600-1766401200@jengka16.nadi.my
SUMMARY:PROGRAM CUTI SEKOLAH @NADI: KIDVENTURE - WEBINAR BIZKID MUDAH CUTI SEKOLAH
DESCRIPTION:Tarikh: 22 Disember 2025\nMasa: 10:00 Pagi – 11:00 Pagi\nTempat: NADI Felda Jengka 16
URL:https://jengka16.nadi.my/event/program-cuti-sekolah-nadi-kidventure-webinar-bizkid-mudah-cuti-sekolah/
LOCATION:NADI FELDA JENGKA 16\, BLOK DEWAN JKKR FELDA JENGKA 16\, BANDAR JENGKA\, PAHANG\, 26400\, Malaysia
END:VEVENT
BEGIN:VEVENT
DTSTART;TZID=UTC:20251222T100000
DTEND;TZID=UTC:20251227T170000
DTSTAMP:20260422T222004
CREATED:20251221T151732Z
LAST-MODIFIED:20251221T151732Z
UID:5397-1766397600-1766854800@jengka16.nadi.my
SUMMARY:PROGRAM CUTI SEKOLAH @ NADI: TINY TECHIES - TEROKAI DUNIA ROBOTIK: VIDEO & WORD SEARCH
DESCRIPTION:Tarikh: 22 – 27 Disember 2025 \nMasa: 10:00 Pagi \nTempat: NADI Felda Jengka 16
URL:https://jengka16.nadi.my/event/program-cuti-sekolah-nadi-tiny-techies-terokai-dunia-robotik-video-word-search/
LOCATION:NADI FELDA JENGKA 16\, BLOK DEWAN JKKR FELDA JENGKA 16\, BANDAR JENGKA\, PAHANG\, 26400\, Malaysia
END:VEVENT
BEGIN:VEVENT
DTSTART;TZID=UTC:20251222T100000
DTEND;TZID=UTC:20251229T170000
DTSTAMP:20260422T222004
CREATED:20251221T152311Z
LAST-MODIFIED:20251221T152311Z
UID:5401-1766397600-1767027600@jengka16.nadi.my
SUMMARY:PROGRAM CUTI SEKOLAH @NADI: CYBERSECURITY - SIRI EDUSIBER DI NADI! (VIDEO & CROSSWORD PUZZLE)
DESCRIPTION:Tarikh: 22 -29  Disember 2025 \nMasa: 10:00 Pagi – 5:00 Petang \nTempat: NADI Felda Jengka 16
URL:https://jengka16.nadi.my/event/program-cuti-sekolah-nadi-cybersecurity-siri-edusiber-di-nadi-video-crossword-puzzle/
LOCATION:NADI FELDA JENGKA 16\, BLOK DEWAN JKKR FELDA JENGKA 16\, BANDAR JENGKA\, PAHANG\, 26400\, Malaysia
END:VEVENT
BEGIN:VEVENT
DTSTART;TZID=UTC:20251222T100000
DTEND;TZID=UTC:20251229T170000
DTSTAMP:20260422T222004
CREATED:20251221T152633Z
LAST-MODIFIED:20251221T152633Z
UID:5405-1766397600-1767027600@jengka16.nadi.my
SUMMARY:PROGRAM CUTI SEKOLAH @NADI: NADI CARE - WEBINAR ON PODCAST
DESCRIPTION:Tarikh: 22 – 29 Disember 2025 \nMasa: 10:00 Pagi \nTempat: NADI Felda Jengka 16
URL:https://jengka16.nadi.my/event/program-cuti-sekolah-nadi-nadi-care-webinar-on-podcast/
LOCATION:NADI FELDA JENGKA 16\, BLOK DEWAN JKKR FELDA JENGKA 16\, BANDAR JENGKA\, PAHANG\, 26400\, Malaysia
END:VEVENT
BEGIN:VEVENT
DTSTART;TZID=UTC:20251222T150000
DTEND;TZID=UTC:20251229T160000
DTSTAMP:20260422T222004
CREATED:20251221T153528Z
LAST-MODIFIED:20251221T153528Z
UID:5418-1766415600-1767024000@jengka16.nadi.my
SUMMARY:PROGRAM CUTI SEKOLAH @NADI: KEMPEN INTERNET SELAMAT (KIS) - PENDEDAHAN KEMPEN INTERNET SELAMAT: KUIZ & AKTIVITI INTERAKTIF
DESCRIPTION:Tarikh: 22 -29 Disember 2025\nMasa: 10:00 Pagi\nTempat: NADI Felda Jengka 16
URL:https://jengka16.nadi.my/event/program-cuti-sekolah-nadi-kempen-internet-selamat-kis-pendedahan-kempen-internet-selamat-kuiz-aktiviti-interaktif/
LOCATION:NADI FELDA JENGKA 16\, BLOK DEWAN JKKR FELDA JENGKA 16\, BANDAR JENGKA\, PAHANG\, 26400\, Malaysia
END:VEVENT
BEGIN:VEVENT
DTSTART;TZID=UTC:20251222T153000
DTEND;TZID=UTC:20251222T163000
DTSTAMP:20260422T222004
CREATED:20251205T195125Z
LAST-MODIFIED:20251205T195125Z
UID:5346-1766417400-1766421000@jengka16.nadi.my
SUMMARY:DILEA Tuisyen Rakyat: OPEN TUITION SEJARAH TINGKATAN 1-5
DESCRIPTION:Tarikh: 22 Disember 2025 \nMasa: 3:30 Petang – 4:30 Petang \nTempat: NADI Felda Jengka 16
URL:https://jengka16.nadi.my/event/dilea-tuisyen-rakyat-open-tuition-sejarah-tingkatan-1-5-2/
LOCATION:NADI FELDA JENGKA 16\, BLOK DEWAN JKKR FELDA JENGKA 16\, BANDAR JENGKA\, PAHANG\, 26400\, Malaysia
END:VEVENT
BEGIN:VEVENT
DTSTART;TZID=UTC:20251222T153000
DTEND;TZID=UTC:20251222T163000
DTSTAMP:20260422T222004
CREATED:20251205T195226Z
LAST-MODIFIED:20251205T195226Z
UID:5348-1766417400-1766421000@jengka16.nadi.my
SUMMARY:DILEA Tuisyen Rakyat: OPEN TUITION SAINS TINGKATAN 1-5
DESCRIPTION:Tarikh: 23 Disember 2025 \nMasa: 3:30 Petang – 4:30 Petang \nTempat: NADI Felda Jengka 16
URL:https://jengka16.nadi.my/event/dilea-tuisyen-rakyat-open-tuition-sains-tingkatan-1-5-2/
LOCATION:NADI FELDA JENGKA 16\, BLOK DEWAN JKKR FELDA JENGKA 16\, BANDAR JENGKA\, PAHANG\, 26400\, Malaysia
END:VEVENT
END:VCALENDAR