BEGIN:VCALENDAR
VERSION:2.0
PRODID:-//NADI Felda Jengka 16 - ECPv6.15.13.1//NONSGML v1.0//EN
CALSCALE:GREGORIAN
METHOD:PUBLISH
X-WR-CALNAME:NADI Felda Jengka 16
X-ORIGINAL-URL:https://jengka16.nadi.my
X-WR-CALDESC:Events for NADI Felda Jengka 16
REFRESH-INTERVAL;VALUE=DURATION:PT1H
X-Robots-Tag:noindex
X-PUBLISHED-TTL:PT1H
BEGIN:VTIMEZONE
TZID:Asia/Kuala_Lumpur
BEGIN:STANDARD
TZOFFSETFROM:+0800
TZOFFSETTO:+0800
TZNAME:+08
DTSTART:20250101T000000
END:STANDARD
END:VTIMEZONE
BEGIN:VEVENT
DTSTART;TZID=Asia/Kuala_Lumpur:20260314T080000
DTEND;TZID=Asia/Kuala_Lumpur:20260314T150000
DTSTAMP:20260421T201551
CREATED:20260310T022306Z
LAST-MODIFIED:20260310T022306Z
UID:5934-1773475200-1773500400@jengka16.nadi.my
SUMMARY:BAZAR RAYA NADI
DESCRIPTION:Tarikh: 14 Mac 2026 \nMasa; 8:00 pagi – 3:00 petang \nTempat: NADI Felda Jengka 16
URL:https://jengka16.nadi.my/event/bazar-raya-nadi/
LOCATION:NADI FELDA JENGKA 16\, BLOK DEWAN JKKR FELDA JENGKA 16\, BANDAR JENGKA\, PAHANG\, 26400\, Malaysia
END:VEVENT
BEGIN:VEVENT
DTSTART;TZID=Asia/Kuala_Lumpur:20260314T140000
DTEND;TZID=Asia/Kuala_Lumpur:20260314T160000
DTSTAMP:20260421T201551
CREATED:20260310T032308Z
LAST-MODIFIED:20260310T032421Z
UID:5938-1773496800-1773504000@jengka16.nadi.my
SUMMARY:DILEA Tuisyen Rakyat: PROGRAM KHAS WEBINAR BERKALA MATEMATIK EDISI 5 - TINGKATAN 1 HINGGA 3
DESCRIPTION:Tarikh: 14 Mac 2026 \nMasa; 2:00 petang – 4:00 petang \nTempat: NADI Felda Jengka 16 \n 
URL:https://jengka16.nadi.my/event/dilea-tuisyen-rakyat-program-khas-webinar-berkala-matematik-edisi-5-tingkatan-1-hingga-3/
LOCATION:NADI FELDA JENGKA 16\, BLOK DEWAN JKKR FELDA JENGKA 16\, BANDAR JENGKA\, PAHANG\, 26400\, Malaysia
END:VEVENT
END:VCALENDAR