BEGIN:VCALENDAR
VERSION:2.0
PRODID:-//NADI Felda Jengka 16 - ECPv6.15.13.1//NONSGML v1.0//EN
CALSCALE:GREGORIAN
METHOD:PUBLISH
X-WR-CALNAME:NADI Felda Jengka 16
X-ORIGINAL-URL:https://jengka16.nadi.my
X-WR-CALDESC:Events for NADI Felda Jengka 16
REFRESH-INTERVAL;VALUE=DURATION:PT1H
X-Robots-Tag:noindex
X-PUBLISHED-TTL:PT1H
BEGIN:VTIMEZONE
TZID:UTC
BEGIN:STANDARD
TZOFFSETFROM:+0000
TZOFFSETTO:+0000
TZNAME:UTC
DTSTART:20240101T000000
END:STANDARD
END:VTIMEZONE
BEGIN:VEVENT
DTSTART;TZID=UTC:20260223T143000
DTEND;TZID=UTC:20260223T153000
DTSTAMP:20260421T151805
CREATED:20260203T152419Z
LAST-MODIFIED:20260203T152419Z
UID:5687-1771857000-1771860600@jengka16.nadi.my
SUMMARY:DILEA Tuisyen Rakyat: OPEN TUITION SEJARAH TINGKATAN 1-5
DESCRIPTION:Tarikh: 23 Februari 2026 \nMasa: 3:30 Petang – 4:30 Petang \nTempat: NADI Felda Jengka 16
URL:https://jengka16.nadi.my/event/dilea-tuisyen-rakyat-open-tuition-sejarah-tingkatan-1-5-5/
LOCATION:NADI FELDA JENGKA 16\, BLOK DEWAN JKKR FELDA JENGKA 16\, BANDAR JENGKA\, PAHANG\, 26400\, Malaysia
END:VEVENT
BEGIN:VEVENT
DTSTART;TZID=UTC:20260221T140000
DTEND;TZID=UTC:20260221T160000
DTSTAMP:20260421T151805
CREATED:20260219T151610Z
LAST-MODIFIED:20260219T151610Z
UID:5769-1771682400-1771689600@jengka16.nadi.my
SUMMARY:DILEA Tuisyen Rakyat: PROGRAM KHAS WEBINAR BERKALA SEJARAH EDISI 4 TINGKATAN 4 & 5 - STRATEGI MENJAWAB SEJARAH SPM BAGI KERTAS 2
DESCRIPTION:Tarikh: 21 Februari 2026 \nMasa: 2:00 Petang – 4:00 Petang \nTempat: NADI Felda Jengka 16
URL:https://jengka16.nadi.my/event/dilea-tuisyen-rakyat-program-khas-webinar-berkala-sejarah-edisi-4-tingkatan-4-5-strategi-menjawab-sejarah-spm-bagi-kertas-2/
LOCATION:NADI FELDA JENGKA 16\, BLOK DEWAN JKKR FELDA JENGKA 16\, BANDAR JENGKA\, PAHANG\, 26400\, Malaysia
END:VEVENT
BEGIN:VEVENT
DTSTART;TZID=UTC:20260216T153000
DTEND;TZID=UTC:20260216T163000
DTSTAMP:20260421T151805
CREATED:20260203T151817Z
LAST-MODIFIED:20260203T151817Z
UID:5681-1771255800-1771259400@jengka16.nadi.my
SUMMARY:DILEA Tuisyen Rakyat: OPEN TUITION MATEMATIK TINGKATAN 1-5
DESCRIPTION:Tarikh: 16 Februari 2026 \nMasa: 3:30 Petang – 4;30 Petang \nTempat: NADI Felda Jengka 16
URL:https://jengka16.nadi.my/event/dilea-tuisyen-rakyat-open-tuition-matematik-tingkatan-1-5-4/
LOCATION:NADI FELDA JENGKA 16\, BLOK DEWAN JKKR FELDA JENGKA 16\, BANDAR JENGKA\, PAHANG\, 26400\, Malaysia
END:VEVENT
BEGIN:VEVENT
DTSTART;TZID=UTC:20260212T153000
DTEND;TZID=UTC:20260212T170000
DTSTAMP:20260421T151805
CREATED:20260203T062625Z
LAST-MODIFIED:20260203T062625Z
UID:5674-1770910200-1770915600@jengka16.nadi.my
SUMMARY:DILEA Tuisyen Rakyat: OPEN TUITION SAINS TINGKATAN 1-5
DESCRIPTION:Tarikh: 12 Februari 2026 \nMasa: 3:30 Petang – 4:30 Petang \nTempat: NADI Felda Jengka 16
URL:https://jengka16.nadi.my/event/dilea-tuisyen-rakyat-open-tuition-sains-tingkatan-1-5-5/
LOCATION:NADI FELDA JENGKA 16\, BLOK DEWAN JKKR FELDA JENGKA 16\, BANDAR JENGKA\, PAHANG\, 26400\, Malaysia
END:VEVENT
BEGIN:VEVENT
DTSTART;TZID=UTC:20260212T150000
DTEND;TZID=UTC:20260212T163000
DTSTAMP:20260421T151805
CREATED:20260203T063453Z
LAST-MODIFIED:20260203T063453Z
UID:5678-1770908400-1770913800@jengka16.nadi.my
SUMMARY:NADI X CYEBERSECURITY: CARA KENAL PASTI FILE BERBENTUK VIRUS
DESCRIPTION:Tarikh: 12 Februari 2026 \nMasa: 3:00 Petang – 4:30 Petang \nTempat: NADI Felda Jengka 16
URL:https://jengka16.nadi.my/event/nadi-x-cyebersecurity-cara-kenal-pasti-file-berbentuk-virus/
LOCATION:NADI FELDA JENGKA 16\, BLOK DEWAN JKKR FELDA JENGKA 16\, BANDAR JENGKA\, PAHANG\, 26400\, Malaysia
END:VEVENT
BEGIN:VEVENT
DTSTART;TZID=UTC:20260211T122500
DTEND;TZID=UTC:20260211T125500
DTSTAMP:20260421T151805
CREATED:20260208T163308Z
LAST-MODIFIED:20260208T163308Z
UID:5736-1770812700-1770814500@jengka16.nadi.my
SUMMARY:MAHIR SHORT LEARNING SERIES: MAHIR BAIKI GAJET - PENGOPTIMUMAN PRESTASI TELEFON PINTAR
DESCRIPTION:Tarikh: 11 Februari 2026 \nMasa: 12:25 Tengah hari – 12:55 Tengah hari \nTempat: NADI Felda Jengka 16
URL:https://jengka16.nadi.my/event/mahir-short-learning-series-mahir-baiki-gajet-pengoptimuman-prestasi-telefon-pintar/
LOCATION:NADI FELDA JENGKA 16\, BLOK DEWAN JKKR FELDA JENGKA 16\, BANDAR JENGKA\, PAHANG\, 26400\, Malaysia
END:VEVENT
BEGIN:VEVENT
DTSTART;TZID=UTC:20260211T115000
DTEND;TZID=UTC:20260211T122000
DTSTAMP:20260421T151805
CREATED:20260208T163043Z
LAST-MODIFIED:20260208T163043Z
UID:5734-1770810600-1770812400@jengka16.nadi.my
SUMMARY:MAHIR SHORT LEARNING SERIES: MAHIR PERTANIAN PINTAR - TEKNIK MENGEKSTRAK PATI HALIA UNTUK KOKTEL RACUN ORGANIK
DESCRIPTION:Tarikh: 11 Februari 2026 \nMasa: 11:50 Pagi – 12:20 Tengah hari \nTempat: NADI Felda Jengka 16
URL:https://jengka16.nadi.my/event/mahir-short-learning-series-mahir-pertanian-pintar-teknik-mengekstrak-pati-halia-untuk-koktel-racun-organik/
LOCATION:NADI FELDA JENGKA 16\, BLOK DEWAN JKKR FELDA JENGKA 16\, BANDAR JENGKA\, PAHANG\, 26400\, Malaysia
END:VEVENT
BEGIN:VEVENT
DTSTART;TZID=UTC:20260211T111500
DTEND;TZID=UTC:20260211T114500
DTSTAMP:20260421T151805
CREATED:20260208T162704Z
LAST-MODIFIED:20260208T162950Z
UID:5732-1770808500-1770810300@jengka16.nadi.my
SUMMARY:MAHIR SHORT LEARNING SERIES: MAHIR FOTO - DARI BIASA KE LUAR BIASA
DESCRIPTION:Tarikh: 11 Februari 2026 \nMasa: 11:15 Pagi – 11:45 Pagi \nTempat: NADI Felda Jengka 16
URL:https://jengka16.nadi.my/event/mahir-short-learning-series-mahir-foto-dari-biasa-ke-luar-biasa/
LOCATION:NADI FELDA JENGKA 16\, BLOK DEWAN JKKR FELDA JENGKA 16\, BANDAR JENGKA\, PAHANG\, 26400\, Malaysia
END:VEVENT
BEGIN:VEVENT
DTSTART;TZID=UTC:20260209T153000
DTEND;TZID=UTC:20260209T163000
DTSTAMP:20260421T151805
CREATED:20260203T062454Z
LAST-MODIFIED:20260203T062454Z
UID:5672-1770651000-1770654600@jengka16.nadi.my
SUMMARY:DILEA Tuisyen Rakyat: OPEN TUITION SEJARAH TINGKATAN 1-5
DESCRIPTION:Tarikh: 09 Februari 2026 \nMasa: 3:30 Petang – 4:30  Petang \nTempat: NADI Felda Jengka 16
URL:https://jengka16.nadi.my/event/dilea-tuisyen-rakyat-open-tuition-sejarah-tingkatan-1-5-4/
LOCATION:NADI FELDA JENGKA 16\, BLOK DEWAN JKKR FELDA JENGKA 16\, BANDAR JENGKA\, PAHANG\, 26400\, Malaysia
END:VEVENT
BEGIN:VEVENT
DTSTART;TZID=UTC:20260206T153000
DTEND;TZID=UTC:20260206T163000
DTSTAMP:20260421T151805
CREATED:20260203T060856Z
LAST-MODIFIED:20260203T060856Z
UID:5666-1770391800-1770395400@jengka16.nadi.my
SUMMARY:DILEA Tuisyen Rakyat: OPEN TUITION MATEMATIK TINGKATAN 1-5
DESCRIPTION:Tarikh: 06 Februari 2026 \nMasa: 3:30 Petang – 4:30 Petang \nTempat: NADI Felda Jengka 16
URL:https://jengka16.nadi.my/event/dilea-tuisyen-rakyat-open-tuition-matematik-tingkatan-1-5-3/
LOCATION:NADI FELDA JENGKA 16\, BLOK DEWAN JKKR FELDA JENGKA 16\, BANDAR JENGKA\, PAHANG\, 26400\, Malaysia
END:VEVENT
BEGIN:VEVENT
DTSTART;TZID=UTC:20260205T153000
DTEND;TZID=UTC:20260205T163000
DTSTAMP:20260421T151805
CREATED:20260203T062301Z
LAST-MODIFIED:20260203T062301Z
UID:5670-1770305400-1770309000@jengka16.nadi.my
SUMMARY:DILEA Tuisyen Rakyat: OPEN TUITION BAHASA MELAYU TINGKATAN 1-5
DESCRIPTION:Tarikh: 05 Februari 2026 \nMasa: 3:30 Petang – 4:30 Petang \nTempat: NADI Felda Jengka 16
URL:https://jengka16.nadi.my/event/dilea-tuisyen-rakyat-open-tuition-bahasa-melayu-tingkatan-1-5-3/
LOCATION:NADI FELDA JENGKA 16\, BLOK DEWAN JKKR FELDA JENGKA 16\, BANDAR JENGKA\, PAHANG\, 26400\, Malaysia
END:VEVENT
BEGIN:VEVENT
DTSTART;TZID=UTC:20260205T100000
DTEND;TZID=UTC:20260205T110000
DTSTAMP:20260421T151805
CREATED:20260203T063134Z
LAST-MODIFIED:20260203T063134Z
UID:5676-1770285600-1770289200@jengka16.nadi.my
SUMMARY:EKELAS USAHAWAN: MENGURUS & MENGUKUR KEBERKESANAN PEMASARAN DIGITAL
DESCRIPTION:Tarikh: 05 Februari 2026 \nMasa: 10:00 Pagi – 11:00 Pagi \nTempat: NADI Felda Jengka 16
URL:https://jengka16.nadi.my/event/ekelas-usahawan-mengurus-mengukur-keberkesanan-pemasaran-digital/
LOCATION:NADI FELDA JENGKA 16\, BLOK DEWAN JKKR FELDA JENGKA 16\, BANDAR JENGKA\, PAHANG\, 26400\, Malaysia
END:VEVENT
BEGIN:VEVENT
DTSTART;TZID=UTC:20260203T080000
DTEND;TZID=UTC:20260203T170000
DTSTAMP:20260421T151805
CREATED:20260203T061020Z
LAST-MODIFIED:20260203T061020Z
UID:5668-1770105600-1770138000@jengka16.nadi.my
SUMMARY:DILEA Tuisyen Rakyat: OPEN TUITION BAHASA INGGERIS TINGKATAN 1-5
DESCRIPTION:Tarikh: 10 Februari 2026 \nMasa: 3:30 Petang – 4:30 Petang \nTempat: NADI Felda Jengka 16
URL:https://jengka16.nadi.my/event/dilea-tuisyen-rakyat-open-tuition-bahasa-inggeris-tingkatan-1-5-3/
LOCATION:PAHANG
END:VEVENT
BEGIN:VEVENT
DTSTART;TZID=UTC:20260131T100000
DTEND;TZID=UTC:20260131T110000
DTSTAMP:20260421T151805
CREATED:20260121T134903Z
LAST-MODIFIED:20260121T134903Z
UID:5600-1769853600-1769857200@jengka16.nadi.my
SUMMARY:KEMPEN INTERNET SELAMAT: WEBINAR MEDIA SOSIAL ALAF BARU
DESCRIPTION:Tarikh: 31 Januari 2026\nMasa: 10:00 Pagi – 11:00 Pagi\nTempat: NADI Felda Jengka 16
URL:https://jengka16.nadi.my/event/kempen-internet-selamat-webinar-media-sosial-alaf-baru/
LOCATION:NADI FELDA JENGKA 16\, BLOK DEWAN JKKR FELDA JENGKA 16\, BANDAR JENGKA\, PAHANG\, 26400\, Malaysia
END:VEVENT
BEGIN:VEVENT
DTSTART;TZID=UTC:20260129T153000
DTEND;TZID=UTC:20260129T163000
DTSTAMP:20260421T151805
CREATED:20260110T124049Z
LAST-MODIFIED:20260110T124049Z
UID:5528-1769700600-1769704200@jengka16.nadi.my
SUMMARY:DILEA Tuisyen Rakyat: OPEN TUITION SAINS TINGKATAN 1-5
DESCRIPTION:Tarikh: 29 Januari 2026\nMasa: 3:30 Petang – 4:30 Petang\nTempat: NADI Felda Jengka 16
URL:https://jengka16.nadi.my/event/dilea-tuisyen-rakyat-open-tuition-sains-tingkatan-1-5-4/
LOCATION:NADI FELDA JENGKA 16\, BLOK DEWAN JKKR FELDA JENGKA 16\, BANDAR JENGKA\, PAHANG\, 26400\, Malaysia
END:VEVENT
BEGIN:VEVENT
DTSTART;TZID=UTC:20260129T150000
DTEND;TZID=UTC:20260129T160000
DTSTAMP:20260421T151805
CREATED:20260121T134538Z
LAST-MODIFIED:20260121T134538Z
UID:5598-1769698800-1769702400@jengka16.nadi.my
SUMMARY:NADI X CYBERSECURITY: WEBINAR KESELAMATAN SIBER - CARA MENANGANI ANCAMAN SERANGAN SIBER
DESCRIPTION:Tarikh: 29 Januari 2026\nMasa: 3:00 Petang – 4:30 Petang\nTempat: NADI Felda Jengka 16
URL:https://jengka16.nadi.my/event/nadi-x-cybersecurity-webinar-keselamatan-siber-cara-menangani-ancaman-serangan-siber/
LOCATION:NADI FELDA JENGKA 16\, BLOK DEWAN JKKR FELDA JENGKA 16\, BANDAR JENGKA\, PAHANG\, 26400\, Malaysia
END:VEVENT
BEGIN:VEVENT
DTSTART;TZID=UTC:20260124T143000
DTEND;TZID=UTC:20260124T163000
DTSTAMP:20260421T151805
CREATED:20260121T133811Z
LAST-MODIFIED:20260121T134122Z
UID:5592-1769265000-1769272200@jengka16.nadi.my
SUMMARY:DILEA Tuisyen Rakyat: PROGRAM KHAS WEBINAR BERKALA BAHASA INGGERIS EDISI 6 - TINGKATAN 1 HINGGA 3
DESCRIPTION:Tarikh: 24 Januari 2026\nMasa: 2:30 Petang – 4:30 Petang\nTempat: NADI Felda Jengka 16
URL:https://jengka16.nadi.my/event/dilea-tuisyen-rakyat-program-khas-webinar-berkala-bahasa-inggeris-edisi-6-tingkatan-1-hingga-3/
LOCATION:NADI FELDA JENGKA 16\, BLOK DEWAN JKKR FELDA JENGKA 16\, BANDAR JENGKA\, PAHANG\, 26400\, Malaysia
END:VEVENT
BEGIN:VEVENT
DTSTART;TZID=UTC:20260122T153000
DTEND;TZID=UTC:20260122T163000
DTSTAMP:20260421T151805
CREATED:20260110T123926Z
LAST-MODIFIED:20260110T123926Z
UID:5526-1769095800-1769099400@jengka16.nadi.my
SUMMARY:DILEA Tuisyen Rakyat: OPEN TUITION BAHASA MELAYU TINGKATAN 1-5
DESCRIPTION:Tarikh: 22 Januari 2026\nMasa: 3:30 Petang – 4:30 Petang\nTempat: NADI Felda Jengka 16
URL:https://jengka16.nadi.my/event/dilea-tuisyen-rakyat-open-tuition-bahasa-melayu-tingkatan-1-5-2/
LOCATION:NADI FELDA JENGKA 16\, BLOK DEWAN JKKR FELDA JENGKA 16\, BANDAR JENGKA\, PAHANG\, 26400\, Malaysia
END:VEVENT
BEGIN:VEVENT
DTSTART;TZID=UTC:20260122T150000
DTEND;TZID=UTC:20260122T160000
DTSTAMP:20260421T151805
CREATED:20260121T134349Z
LAST-MODIFIED:20260121T134349Z
UID:5596-1769094000-1769097600@jengka16.nadi.my
SUMMARY:NADI X CYBERSECURITY: PROGRAM CYBER HYGIENE - ASAS KESELAMATAN SIBER
DESCRIPTION:Tarikh: 22 Januari 2026\nMasa: 3:00 Petang – 4:00 Petang\nTempat: NADI Felda Jengka 16
URL:https://jengka16.nadi.my/event/nadi-x-cybersecurity-program-cyber-hygiene-asas-keselamatan-siber/
LOCATION:NADI FELDA JENGKA 16\, BLOK DEWAN JKKR FELDA JENGKA 16\, BANDAR JENGKA\, PAHANG\, 26400\, Malaysia
END:VEVENT
BEGIN:VEVENT
DTSTART;TZID=UTC:20260122T100000
DTEND;TZID=UTC:20260122T110000
DTSTAMP:20260421T151805
CREATED:20260121T134043Z
LAST-MODIFIED:20260121T134043Z
UID:5594-1769076000-1769079600@jengka16.nadi.my
SUMMARY:EKELAS USAHAWAN: WEBINAR PEMASARAN DIGITAL - ASAS KOMUNIKASI VISUAL
DESCRIPTION:Tarikh: 22 Januari 2026\nMasa: 10:00 Pagi – 11:00 Pagi\nTempat: NADI Felda Jengka 16
URL:https://jengka16.nadi.my/event/ekelas-usahawan-webinar-pemasaran-digital-asas-komunikasi-visual/
LOCATION:NADI FELDA JENGKA 16\, BLOK DEWAN JKKR FELDA JENGKA 16\, BANDAR JENGKA\, PAHANG\, 26400\, Malaysia
END:VEVENT
BEGIN:VEVENT
DTSTART;TZID=UTC:20260120T153000
DTEND;TZID=UTC:20260120T163000
DTSTAMP:20260421T151805
CREATED:20260110T123812Z
LAST-MODIFIED:20260110T123812Z
UID:5524-1768923000-1768926600@jengka16.nadi.my
SUMMARY:DILEA Tuisyen Rakyat: OPEN TUITION BAHASA INGGERIS TINGKATAN 1-5
DESCRIPTION:Tarikh: 20 Januari 2026\nMasa: 3:30 Petang – 4:30 Petang\nTempat: NADI Felda Jengka 16
URL:https://jengka16.nadi.my/event/dilea-tuisyen-rakyat-open-tuition-bahasa-inggeris-tingkatan-1-5-2/
LOCATION:NADI FELDA JENGKA 16\, BLOK DEWAN JKKR FELDA JENGKA 16\, BANDAR JENGKA\, PAHANG\, 26400\, Malaysia
END:VEVENT
BEGIN:VEVENT
DTSTART;TZID=UTC:20260116T153000
DTEND;TZID=UTC:20260116T163000
DTSTAMP:20260421T151805
CREATED:20260110T123702Z
LAST-MODIFIED:20260110T123702Z
UID:5521-1768577400-1768581000@jengka16.nadi.my
SUMMARY:DILEA Tuisyen Rakyat: OPEN TUITION MATEMATIK TINGKATAN 1-5
DESCRIPTION:Tarikh: 16 Januari 2026\nMasa: 3:30 Petang – 4:30 Petang\nTempat: NADI Felda Jengka 16
URL:https://jengka16.nadi.my/event/dilea-tuisyen-rakyat-open-tuition-matematik-tingkatan-1-5-2/
LOCATION:NADI FELDA JENGKA 16\, BLOK DEWAN JKKR FELDA JENGKA 16\, BANDAR JENGKA\, PAHANG\, 26400\, Malaysia
END:VEVENT
BEGIN:VEVENT
DTSTART;TZID=UTC:20260115T153000
DTEND;TZID=UTC:20260115T163000
DTSTAMP:20260421T151805
CREATED:20260110T123018Z
LAST-MODIFIED:20260110T123018Z
UID:5518-1768491000-1768494600@jengka16.nadi.my
SUMMARY:DILEA Tuisyen Rakyat: OPEN TUITION SAINS TINGKATAN 1-5
DESCRIPTION:Tarikh: 15 Januari 2026 \nMasa: 3:30 Petang – 4:30 Petang \nTempat: NADI Felda Jengka 16
URL:https://jengka16.nadi.my/event/dilea-tuisyen-rakyat-open-tuition-sains-tingkatan-1-5-3/
LOCATION:NADI FELDA JENGKA 16\, BLOK DEWAN JKKR FELDA JENGKA 16\, BANDAR JENGKA\, PAHANG\, 26400\, Malaysia
END:VEVENT
BEGIN:VEVENT
DTSTART;TZID=UTC:20260115T150000
DTEND;TZID=UTC:20260115T163000
DTSTAMP:20260421T151805
CREATED:20260110T122401Z
LAST-MODIFIED:20260110T122401Z
UID:5514-1768489200-1768494600@jengka16.nadi.my
SUMMARY:NADI X CYBERSECURITY: ANCAMAN SIBER DALAM DUNIA DIGITAL
DESCRIPTION:Tarikh: 15 Januari 2026 \nMasa: 3:00 Petang – 4:30 Petang \nTempat: NADI Felda Jengka 16
URL:https://jengka16.nadi.my/event/nadi-x-cybersecurity-ancaman-siber-dalam-dunia-digital/
LOCATION:NADI FELDA JENGKA 16\, BLOK DEWAN JKKR FELDA JENGKA 16\, BANDAR JENGKA\, PAHANG\, 26400\, Malaysia
END:VEVENT
BEGIN:VEVENT
DTSTART;TZID=UTC:20260112T153000
DTEND;TZID=UTC:20260112T163000
DTSTAMP:20260421T151805
CREATED:20260110T122855Z
LAST-MODIFIED:20260110T122855Z
UID:5516-1768231800-1768235400@jengka16.nadi.my
SUMMARY:DILEA Tuisyen Rakyat: OPEN TUITION SEJARAH TINGKATAN 1-5
DESCRIPTION:Tarikh: 12 Januari 2026 \nMasa: 3:30 Petang – 4:30 Petang \nTempat: NADI Felda Jengka 16
URL:https://jengka16.nadi.my/event/dilea-tuisyen-rakyat-open-tuition-sejarah-tingkatan-1-5-3/
LOCATION:NADI FELDA JENGKA 16\, BLOK DEWAN JKKR FELDA JENGKA 16\, BANDAR JENGKA\, PAHANG\, 26400\, Malaysia
END:VEVENT
BEGIN:VEVENT
DTSTART;TZID=UTC:20251229T100000
DTEND;TZID=UTC:20251229T110000
DTSTAMP:20260421T151805
CREATED:20251221T153302Z
LAST-MODIFIED:20251221T153302Z
UID:5416-1767002400-1767006000@jengka16.nadi.my
SUMMARY:PROGRAM CUTI SEKOLAH @NADI: EKELAS - LIVE WEBINAR: KID AI CONTENS
DESCRIPTION:Tarikh: 29 Disember 2025\nMasa: 10:00 Pagi – 11:00 Pagi\nTempat: NADI Felda Jengka 16
URL:https://jengka16.nadi.my/event/program-cuti-sekolah-nadi-ekelas-live-webinar-kid-ai-contens-2/
LOCATION:NADI FELDA JENGKA 16\, BLOK DEWAN JKKR FELDA JENGKA 16\, BANDAR JENGKA\, PAHANG\, 26400\, Malaysia
END:VEVENT
BEGIN:VEVENT
DTSTART;TZID=UTC:20251227T143000
DTEND;TZID=UTC:20251227T163000
DTSTAMP:20260421T151805
CREATED:20251221T151459Z
LAST-MODIFIED:20251221T151459Z
UID:5395-1766845800-1766853000@jengka16.nadi.my
SUMMARY:PROGRAM CUTI SEKOLAH @NADI: DILEA TUISYEN RAKYAT - LIVE WEBINAR HALA TUJU SELEPAS SPM
DESCRIPTION:Tarikh: 27 Disember 2025 \nMasa: 2:30 Petang – 4:30 Petang \nTempat: NADI Felda Jengka 16
URL:https://jengka16.nadi.my/event/program-cuti-sekolah-nadi-dilea-tuisyen-rakyat-live-webinar-hala-tuju-selepas-spm/
LOCATION:NADI FELDA JENGKA 16\, BLOK DEWAN JKKR FELDA JENGKA 16\, BANDAR JENGKA\, PAHANG\, 26400\, Malaysia
END:VEVENT
BEGIN:VEVENT
DTSTART;TZID=UTC:20251227T100000
DTEND;TZID=UTC:20251227T110000
DTSTAMP:20260421T151805
CREATED:20251221T153104Z
LAST-MODIFIED:20251221T153143Z
UID:5411-1766829600-1766833200@jengka16.nadi.my
SUMMARY:PROGRAM CUTI SEKOLAH @NADI: EKELAS - LIVE WEBINAR: KID AI CONTENS
DESCRIPTION:Tarikh: 27 Disember 2025\nMasa: 10:00 Pagi – 11:00 Pagi\nTempat: NADI Felda Jengka 16
URL:https://jengka16.nadi.my/event/program-cuti-sekolah-nadi-live-webinar-kid-ai-contens-2/
LOCATION:NADI FELDA JENGKA 16\, BLOK DEWAN JKKR FELDA JENGKA 16\, BANDAR JENGKA\, PAHANG\, 26400\, Malaysia
END:VEVENT
BEGIN:VEVENT
DTSTART;TZID=UTC:20251224T100000
DTEND;TZID=UTC:20251224T110000
DTSTAMP:20260421T151805
CREATED:20251221T153017Z
LAST-MODIFIED:20251221T153157Z
UID:5409-1766570400-1766574000@jengka16.nadi.my
SUMMARY:PROGRAM CUTI SEKOLAH @NADI: EKELAS - LIVE WEBINAR: KID AI CONTENS
DESCRIPTION:Tarikh: 24 Disember 2025 \nMasa: 10:00 Pagi – 11:00 Pagi \nTempat: NADI Felda Jengka 16
URL:https://jengka16.nadi.my/event/program-cuti-sekolah-nadi-live-webinar-kid-ai-contens/
LOCATION:NADI FELDA JENGKA 16\, BLOK DEWAN JKKR FELDA JENGKA 16\, BANDAR JENGKA\, PAHANG\, 26400\, Malaysia
END:VEVENT
BEGIN:VEVENT
DTSTART;TZID=UTC:20251223T113000
DTEND;TZID=UTC:20251230T160000
DTSTAMP:20260421T151805
CREATED:20251221T152123Z
LAST-MODIFIED:20251221T152123Z
UID:5399-1766489400-1767110400@jengka16.nadi.my
SUMMARY:PROGRAM CUTI SEKOLAH @NADI : MAHIR FOTO - LIVE WEBINAR: NADI360 SHOW YOUR SPOT & VIDEO COMPETITION
DESCRIPTION:Tarikh: 23 – 30 Disember 2025 \nMasa: 11:30 Pagi – 4:00 Petang \nTempat: NADI Felda Jengka 16
URL:https://jengka16.nadi.my/event/program-cuti-sekolah-nadi-mahir-foto-live-webinar-nadi360-show-your-spot-video-competition/
LOCATION:NADI FELDA JENGKA 16\, BLOK DEWAN JKKR FELDA JENGKA 16\, BANDAR JENGKA\, PAHANG\, 26400\, Malaysia
END:VEVENT
END:VCALENDAR