BEGIN:VCALENDAR
VERSION:2.0
PRODID:-//NADI Felda Jengka 16 - ECPv6.15.13.1//NONSGML v1.0//EN
CALSCALE:GREGORIAN
METHOD:PUBLISH
X-WR-CALNAME:NADI Felda Jengka 16
X-ORIGINAL-URL:https://jengka16.nadi.my
X-WR-CALDESC:Events for NADI Felda Jengka 16
REFRESH-INTERVAL;VALUE=DURATION:PT1H
X-Robots-Tag:noindex
X-PUBLISHED-TTL:PT1H
BEGIN:VTIMEZONE
TZID:UTC
BEGIN:STANDARD
TZOFFSETFROM:+0000
TZOFFSETTO:+0000
TZNAME:UTC
DTSTART:20240101T000000
END:STANDARD
END:VTIMEZONE
BEGIN:VEVENT
DTSTART;TZID=UTC:20250102T143000
DTEND;TZID=UTC:20250102T153000
DTSTAMP:20260426T084602
CREATED:20250116T131428Z
LAST-MODIFIED:20250116T131428Z
UID:3679-1735828200-1735831800@jengka16.nadi.my
SUMMARY:KELAS MAHIR BAIKI GAJET
DESCRIPTION:Sesi Kelas Mahir Baiki Gajet merupakan salah sebuah kurusus yang terkandung dalam kursus yang ditawarkan di NADI kepada komuniti secara percuma dengan melalui berberapa siri kelas bimbingan secara online.
URL:https://jengka16.nadi.my/event/kelas-mahir-baiki-gajet/
LOCATION:NADI FELDA JENGKA 16\, BLOK DEWAN JKKR FELDA JENGKA 16\, BANDAR JENGKA\, PAHANG\, 26400\, Malaysia
END:VEVENT
BEGIN:VEVENT
DTSTART;TZID=UTC:20250103T100000
DTEND;TZID=UTC:20250103T110000
DTSTAMP:20260426T084602
CREATED:20250116T131747Z
LAST-MODIFIED:20250116T131747Z
UID:3681-1735898400-1735902000@jengka16.nadi.my
SUMMARY:LATIHAN KEUSAHAWANAN - PENGENALAN KEPADA ONLINE BANKING
DESCRIPTION:Usahawan mempelajari cara-cara untuk membuat pendaftaran online baking bagi Maybank2u\, Bank Simpanan Nasional (BSN)\, Bank Islam Berhad\, Bank Rakyat dan lain-lain secara online melalui laman sesawang rasmi bank-bank tersebut.
URL:https://jengka16.nadi.my/event/latihan-keusahawanan-pengenalan-kepada-online-banking-3/
LOCATION:PAHANG
END:VEVENT
BEGIN:VEVENT
DTSTART;TZID=UTC:20250105T143000
DTEND;TZID=UTC:20250105T170000
DTSTAMP:20260426T084602
CREATED:20250116T132254Z
LAST-MODIFIED:20250116T132410Z
UID:3684-1736087400-1736096400@jengka16.nadi.my
SUMMARY:KELAS MAHIR MASAK
DESCRIPTION:Sesi Mahir Masak merupakan salah sebuah kurusus yang terkandung dalam kursus yang ditawarkan di NADI kepada komuniti iaitu adhli NADI secara percuma dengan melalui berberapa siri kelas bimbingan secara online. Pada kali ini peserta diberi bimbingan untuk menghasilkan 3 jenis minuman iaitu Mojito Soda Herbs\,Mojito Blue Lagoon dan juga Mojito Orange Juice.
URL:https://jengka16.nadi.my/event/kelas-mahir-masak/
LOCATION:PAHANG
END:VEVENT
END:VCALENDAR