BEGIN:VCALENDAR
VERSION:2.0
PRODID:-//NADI Felda Jengka 16 - ECPv6.15.13.1//NONSGML v1.0//EN
CALSCALE:GREGORIAN
METHOD:PUBLISH
X-WR-CALNAME:NADI Felda Jengka 16
X-ORIGINAL-URL:https://jengka16.nadi.my
X-WR-CALDESC:Events for NADI Felda Jengka 16
REFRESH-INTERVAL;VALUE=DURATION:PT1H
X-Robots-Tag:noindex
X-PUBLISHED-TTL:PT1H
BEGIN:VTIMEZONE
TZID:UTC
BEGIN:STANDARD
TZOFFSETFROM:+0000
TZOFFSETTO:+0000
TZNAME:UTC
DTSTART:20240101T000000
END:STANDARD
END:VTIMEZONE
BEGIN:VEVENT
DTSTART;TZID=UTC:20250417T080000
DTEND;TZID=UTC:20250417T170000
DTSTAMP:20260425T011901
CREATED:20250416T203729Z
LAST-MODIFIED:20250416T203743Z
UID:4174-1744876800-1744909200@jengka16.nadi.my
SUMMARY:ESUKAN: PERTANDINGAN MOBILE LEGEND BANG BANG (MLBB) PERINGKAT NEGERI PAHANG 2025
DESCRIPTION:Tarikh: 19 April 2025 (Sabtu) \nMasa: 9;20 Pagi – 5:15 Petang \nTempat: NADI Felda Jengka 16
URL:https://jengka16.nadi.my/event/esukan-petandingan-mobile-legend-bang-bang-mlbb-peringkat-negeri-pahang-2025/
LOCATION:PAHANG
END:VEVENT
BEGIN:VEVENT
DTSTART;TZID=UTC:20250417T080000
DTEND;TZID=UTC:20250417T170000
DTSTAMP:20260425T011901
CREATED:20250416T205805Z
LAST-MODIFIED:20250416T205805Z
UID:4181-1744876800-1744909200@jengka16.nadi.my
SUMMARY:NADI-NURTURE DiLea: PROGRAM KHAS WEBINAR BERKALA BAHASA INGGERIS TINGKATAN 4 & 5
DESCRIPTION:Tarikh: 19 April 2025 (Sabtu) \nMasa: 2:30 Petang – 4:30 Petang \nTempat: NADI Felda Jengka 16
URL:https://jengka16.nadi.my/event/nadi-nurture-dilea-program-khas-webinar-berkala-bahasa-inggeris-tingkatan-4-5/
LOCATION:PAHANG
END:VEVENT
BEGIN:VEVENT
DTSTART;TZID=UTC:20250418T153000
DTEND;TZID=UTC:20250418T170000
DTSTAMP:20260425T011901
CREATED:20250416T200543Z
LAST-MODIFIED:20250416T200543Z
UID:4168-1744990200-1744995600@jengka16.nadi.my
SUMMARY:NADI X CYBERSECURITY: WEBINAR KESELAMATAN SIBER UNTUK WANITA
DESCRIPTION:TARIKH: 18 APRIL 2025 (Jumaat) \nMasa: 3:30 Petang – 5:00 Petang \nTempat: NADI Felda Jengka 16
URL:https://jengka16.nadi.my/event/nadi-x-cybersecurity-webinar-keselamatan-siber-untuk-wanita/
LOCATION:NADI FELDA JENGKA 16\, BLOK DEWAN JKKR FELDA JENGKA 16\, BANDAR JENGKA\, PAHANG\, 26400\, Malaysia
END:VEVENT
BEGIN:VEVENT
DTSTART;TZID=UTC:20250419T093000
DTEND;TZID=UTC:20250419T103000
DTSTAMP:20260425T011901
CREATED:20250416T202917Z
LAST-MODIFIED:20250416T203000Z
UID:4170-1745055000-1745058600@jengka16.nadi.my
SUMMARY:WEBINAR SAFE LINDUNGI DATA PERIBADI: KENALI CARA MELINDUNGI MAKLUMAT ANDA
DESCRIPTION:Tarikh: 19 April 2025 (Sabtu) \nMasa: 9;30 Pagi – 10:30 Pagi \nTempat: NADI Felda Jengka 16
URL:https://jengka16.nadi.my/event/webinar-safe-lindungi-data-peribadi-kenali-cara-melindungi-maklumat-anda/
LOCATION:PAHANG
END:VEVENT
BEGIN:VEVENT
DTSTART;TZID=UTC:20250419T113000
DTEND;TZID=UTC:20250419T113000
DTSTAMP:20260425T011901
CREATED:20250416T203121Z
LAST-MODIFIED:20250416T203121Z
UID:4172-1745062200-1745062200@jengka16.nadi.my
SUMMARY:WEBINAR SHIELD PENIPUAN ATAS TALIAN: KENALI PENIPUAN ATAS TALIAN
DESCRIPTION:Tarikh: 19 April 2025 (Sabtu) \nMasa: 10;30 Pagi – 11:30 Pagi \nTempat: NADI Felda Jengka 16
URL:https://jengka16.nadi.my/event/webinar-shield-penipuan-atas-talian-kenali-penipuan-atas-talian/
LOCATION:PAHANG
END:VEVENT
END:VCALENDAR