BEGIN:VCALENDAR
VERSION:2.0
PRODID:-//NADI Felda Jengka 16 - ECPv6.15.13.1//NONSGML v1.0//EN
CALSCALE:GREGORIAN
METHOD:PUBLISH
X-WR-CALNAME:NADI Felda Jengka 16
X-ORIGINAL-URL:https://jengka16.nadi.my
X-WR-CALDESC:Events for NADI Felda Jengka 16
REFRESH-INTERVAL;VALUE=DURATION:PT1H
X-Robots-Tag:noindex
X-PUBLISHED-TTL:PT1H
BEGIN:VTIMEZONE
TZID:UTC
BEGIN:STANDARD
TZOFFSETFROM:+0000
TZOFFSETTO:+0000
TZNAME:UTC
DTSTART:20240101T000000
END:STANDARD
END:VTIMEZONE
BEGIN:VEVENT
DTSTART;TZID=UTC:20250517T100000
DTEND;TZID=UTC:20250517T110000
DTSTAMP:20260425T231305
CREATED:20250516T111323Z
LAST-MODIFIED:20250516T111439Z
UID:4292-1747476000-1747479600@jengka16.nadi.my
SUMMARY:WEBINAR KEMPEN INTERNET SELAMAT - DETEKTIF INTERNET
DESCRIPTION:Tempat: NADI Felda Jengka 16 (Dalam Talian) \nMasa: 10:00 Pagi – 11:00 Pagi \nPlatform: Microsoft Teams
URL:https://jengka16.nadi.my/event/kempen-internet-selamat-detektif-internet/
LOCATION:NADI FELDA JENGKA 16\, BLOK DEWAN JKKR FELDA JENGKA 16\, BANDAR JENGKA\, PAHANG\, 26400\, Malaysia
END:VEVENT
BEGIN:VEVENT
DTSTART;TZID=UTC:20250517T110000
DTEND;TZID=UTC:20250517T120000
DTSTAMP:20260425T231305
CREATED:20250516T111618Z
LAST-MODIFIED:20250516T111618Z
UID:4296-1747479600-1747483200@jengka16.nadi.my
SUMMARY:WEBINAR KEMPEN INTERNET SELAMAT- LINDUNGI DATA PERIBADI: JOM KENALI DATA PERIBADI
DESCRIPTION:Tempat: NADI Felda Jengka 16 (Dalam Talian) \nMasa: 11:00 Pagi – 12:00 Tengah hari \nPlatform: Microsoft Teams
URL:https://jengka16.nadi.my/event/webinar-kempen-internet-selamat-lindungi-data-peribadi-jom-kenali-data-peribadi/
LOCATION:PAHANG
END:VEVENT
BEGIN:VEVENT
DTSTART;TZID=UTC:20250517T140000
DTEND;TZID=UTC:20250517T153000
DTSTAMP:20260425T231305
CREATED:20250516T111944Z
LAST-MODIFIED:20250516T111944Z
UID:4298-1747490400-1747495800@jengka16.nadi.my
SUMMARY:NADI X CYBERSECURITY: MANIPULASI SIBER - BAGAIMANA PENJENAYAH MENGEKSPLOTASI ANDA?
DESCRIPTION:Tempat: NADI Felda Jengka 16 (Dalam Talian) \nMasa: 2:00 Petang – 3:30 Petang \nPlatform: Microsoft Teams
URL:https://jengka16.nadi.my/event/nadi-x-cybersecurity-manipulasi-siber-bagaimana-penjenayah-mengeksplotasi-anda/
LOCATION:PAHANG
END:VEVENT
BEGIN:VEVENT
DTSTART;TZID=UTC:20250518T100000
DTEND;TZID=UTC:20250518T120000
DTSTAMP:20260425T231305
CREATED:20250516T112133Z
LAST-MODIFIED:20250516T112133Z
UID:4300-1747562400-1747569600@jengka16.nadi.my
SUMMARY:TINY TECHIES: PROGRAM MENTOR SESI 4 (SEKOLAH MENENGAH) - PAHANG B
DESCRIPTION:Tempat: NADI Felda Jengka 16 (Dalam Talian) \nMasa: 10:00 Pagi – 12:00 Tengah hari \nPlatform: Microsoft Teams
URL:https://jengka16.nadi.my/event/tiny-techies-program-mentor-sesi-4-sekolah-menengah-pahang-b/
LOCATION:PAHANG
END:VEVENT
BEGIN:VEVENT
DTSTART;TZID=UTC:20250524T143000
DTEND;TZID=UTC:20250524T163000
DTSTAMP:20260425T231305
CREATED:20250516T112336Z
LAST-MODIFIED:20250516T112336Z
UID:4302-1748097000-1748104200@jengka16.nadi.my
SUMMARY:NADI DILEA: PROGRAM KHAS WEBINAR BERKALA BAHASA MELAYU EDISI KEDUA - TIPS KARANGAN CEMERLANG
DESCRIPTION:Tempat: NADI Felda Jengka 16 (Dalam Talian) \nMasa: 2:30 Petang – 4:30 Petang \n 
URL:https://jengka16.nadi.my/event/nadi-dilea-program-khas-webinar-berkala-bahasa-melayu-edisi-kedua-tips-karangan-cemerlang/
LOCATION:PAHANG
END:VEVENT
BEGIN:VEVENT
DTSTART;TZID=UTC:20250525T093000
DTEND;TZID=UTC:20250525T113000
DTSTAMP:20260425T231305
CREATED:20250524T145042Z
LAST-MODIFIED:20250524T145519Z
UID:4433-1748165400-1748172600@jengka16.nadi.my
SUMMARY:MAHIR MASAK: KELAS PISTACHIO KUNAFA BROWNIES VIRAL
DESCRIPTION:Tarikh: 25/05/2025 \nMasa: 9:30 Pagi – 11:30 Pagi \nTempat: NADI Felda Jengka 16
URL:https://jengka16.nadi.my/event/mahir-masak-kelas-pistachio-kunafa-brownies-viral/
LOCATION:PAHANG
END:VEVENT
BEGIN:VEVENT
DTSTART;TZID=UTC:20250526T100000
DTEND;TZID=UTC:20250526T110000
DTSTAMP:20260425T231305
CREATED:20250524T145229Z
LAST-MODIFIED:20250524T145615Z
UID:4435-1748253600-1748257200@jengka16.nadi.my
SUMMARY:MAXIS EKELAS USAHAWAN: WEBINAR PEMASARAN DIGITAL-STRATEGI PEMASAN DIGITAL
DESCRIPTION:Tarikh: 26/05/2025 \nMasa: 10:00 Pagi – 11:00 Pagi \nTempat: NADI Felda Jengka 16
URL:https://jengka16.nadi.my/event/maxis-ekelas-usahawan-strategi-pemasan-digital/
LOCATION:PAHANG
END:VEVENT
BEGIN:VEVENT
DTSTART;TZID=UTC:20250526T140000
DTEND;TZID=UTC:20250526T150000
DTSTAMP:20260425T231305
CREATED:20250524T145354Z
LAST-MODIFIED:20250524T145443Z
UID:4439-1748268000-1748271600@jengka16.nadi.my
SUMMARY:MAXIS EKELAS USAHAWAN: WEBINAR PEMASARAN DIGITAL-PENCIPTAAN KANDUNGAN
DESCRIPTION:Tarikh: 26/05/2025 \nMasa: 2:00 Petang – 3:00 Petang \nTempat: NADI Felda Jengka 16
URL:https://jengka16.nadi.my/event/maxis-ekelas-usahawan-webinar-pemasaran-digital-penciptaan-kandungan/
LOCATION:PAHANG
END:VEVENT
BEGIN:VEVENT
DTSTART;TZID=UTC:20250527T100000
DTEND;TZID=UTC:20250527T113000
DTSTAMP:20260425T231305
CREATED:20250524T145730Z
LAST-MODIFIED:20250524T145730Z
UID:4442-1748340000-1748345400@jengka16.nadi.my
SUMMARY:MAHIR BAIKI GAJET: KELAS CARA MENUKAR LCD TELEFON PINTAR (CURVE EDITION)
DESCRIPTION:Tarikh: 27/05/2025 \nMasa: 10:00 Pagi – 11:30 Pagi \nTempat: NADI Felda Jengka 16
URL:https://jengka16.nadi.my/event/mahir-baiki-gajet-kelas-cara-menukar-lcd-telefon-pintar-curve-edition/
LOCATION:PAHANG
END:VEVENT
BEGIN:VEVENT
DTSTART;TZID=UTC:20250529T100000
DTEND;TZID=UTC:20250529T113000
DTSTAMP:20260425T231305
CREATED:20250524T145835Z
LAST-MODIFIED:20250524T145835Z
UID:4444-1748512800-1748518200@jengka16.nadi.my
SUMMARY:MAHIR FOTO: KELAS SUNTINGAN GAMBAR (VSCO APPS)
DESCRIPTION:Tarikh: 29/05/2025 \nMasa: 10:00 Pagi – 11:30 Pagi \nTempat: NADI Felda Jengka 16
URL:https://jengka16.nadi.my/event/mahir-foto-kelas-suntingan-gambar-vsco-apps/
LOCATION:PAHANG
END:VEVENT
BEGIN:VEVENT
DTSTART;TZID=UTC:20250531T150000
DTEND;TZID=UTC:20250531T153000
DTSTAMP:20260425T231305
CREATED:20250524T150028Z
LAST-MODIFIED:20250524T150028Z
UID:4447-1748703600-1748705400@jengka16.nadi.my
SUMMARY:NADI E-SUKAN: KELAS PENSIJILAN - SUNTINGAN VIDEO & PENGURUSAN KANDUNGAN UNTUK STREAMER
DESCRIPTION:Tarikh: 31/05/2025 \nMasa: 3:00 Petang – 3:30 Petang \nTempat: NADI Felda Jengka 16
URL:https://jengka16.nadi.my/event/nadi-e-sukan-kelas-pensijilan-suntingan-video-pengurusan-kandungan-untuk-streamer/
LOCATION:PAHANG
END:VEVENT
END:VCALENDAR