BEGIN:VCALENDAR
VERSION:2.0
PRODID:-//NADI Felda Jengka 16 - ECPv6.15.13.1//NONSGML v1.0//EN
CALSCALE:GREGORIAN
METHOD:PUBLISH
X-WR-CALNAME:NADI Felda Jengka 16
X-ORIGINAL-URL:https://jengka16.nadi.my
X-WR-CALDESC:Events for NADI Felda Jengka 16
REFRESH-INTERVAL;VALUE=DURATION:PT1H
X-Robots-Tag:noindex
X-PUBLISHED-TTL:PT1H
BEGIN:VTIMEZONE
TZID:UTC
BEGIN:STANDARD
TZOFFSETFROM:+0000
TZOFFSETTO:+0000
TZNAME:UTC
DTSTART:20240101T000000
END:STANDARD
END:VTIMEZONE
BEGIN:VEVENT
DTSTART;TZID=UTC:20250906T100000
DTEND;TZID=UTC:20250906T110000
DTSTAMP:20260423T161512
CREATED:20250905T063639Z
LAST-MODIFIED:20250905T063639Z
UID:4914-1757152800-1757156400@jengka16.nadi.my
SUMMARY:NADI X KIDVENTURE: COHORT 5 - WEBINAR PEMASARAN DENGAN ELEMEN AI
DESCRIPTION:Tarikh: 6 September 2025 (Sabtu) \nMasa: 10:00 Pagi – 11:00 Pagi \nTempat: NADI Felda Jengka 16
URL:https://jengka16.nadi.my/event/nadi-x-kidventure-cohort-5-webinar-pemasaran-dengan-elemen-ai/
LOCATION:NADI FELDA JENGKA 16\, BLOK DEWAN JKKR FELDA JENGKA 16\, BANDAR JENGKA\, PAHANG\, 26400\, Malaysia
END:VEVENT
BEGIN:VEVENT
DTSTART;TZID=UTC:20250907T100000
DTEND;TZID=UTC:20250907T160000
DTSTAMP:20260423T161512
CREATED:20250905T063943Z
LAST-MODIFIED:20250905T063943Z
UID:4916-1757239200-1757260800@jengka16.nadi.my
SUMMARY:PROGRAM KHAS MERDEKA & HARI MALAYSIA @ NADI
DESCRIPTION:🎉 Program Khas Merdeka & Hari Malaysia @ NADI 🎉 \nJom ramai-ramai datang ke NADI Felda Jengka 16 untuk sambutan istimewa sempena Hari Merdeka & Hari Malaysia @ NADI \n📅 Tarikh: 7 September 2025 (Ahad)\n🕙 Masa: 10:00 pagi – 4:00 petang\n📍 Lokasi: NADI Felda Jengka 16\, Blok Dewan JKKR Jengka 16\, 26400 Bandar Jengka Pahang \nAntara aktiviti menarik yang menanti anda: \n✅ Aktiviti 1 – Pertandingan Mewarna Merdeka (Kategori 6 Tahun)\n✅ Aktiviti 2 – Saringan Kesihatan Percuma\n✅ Aktiviti 3 – Pertandingan Memasak Bento Merdeka\n✅ Aktiviti 4 – Sesi live bersama YB Menteri Komunikasi\n✅ Aktiviti 5 – Pertandingan E-Sukan Mobile Legends (Friendly Match)\n✅ Aktiviti 6 – Tayangan Wayang Pacak Merdeka & Kuiz / Teka Lirik Lagu Kemerdekaan\n✅ Aktiviti 7 – Inisiatif Kerajaan (MyDigital ID\, Semakan STR\, SARA/MyKasih)\n✅ Aktiviti 8 – Cabutan Bertuah\n✅ Aktiviti 9 – Kuiz Kempen Internet Selamat (Kategori SK & SMK) \nJangan lepaskan peluang untuk bersama-sama kita meriahkan sambutan ini! \n#NADIMCMC #MerdekaDiNADI
URL:https://jengka16.nadi.my/event/program-khas-merdeka-hari-malaysia-nadi/
LOCATION:NADI FELDA JENGKA 16\, BLOK DEWAN JKKR FELDA JENGKA 16\, BANDAR JENGKA\, PAHANG\, 26400\, Malaysia
END:VEVENT
BEGIN:VEVENT
DTSTART;TZID=UTC:20250913T143000
DTEND;TZID=UTC:20250913T163000
DTSTAMP:20260423T161512
CREATED:20250910T145115Z
LAST-MODIFIED:20250910T145115Z
UID:4941-1757773800-1757781000@jengka16.nadi.my
SUMMARY:NADI DILEA: PROGRAM KHAS WEBINAR BERKALA MATEMATIK EDISI 3 - ALGEBRA IS AWESOME!
DESCRIPTION:Assalamualaikum & salam sejahtera\, \n📢 WEBINAR BERKALA MATEMATIK EDISI 3 📢 \nHello pelajar Tingkatan 1 – 5! 🌟 \nNak kuasai Matematik dengan lebih mudah dan menyeronokkan? \nJom sertai Webinar Berkala Matematik Edisi ke-3 khas untuk bantu anda faham konsep dengan lebih mantap! \n🗓️ Tarikh: 13 September 2025 (Sabtu)\n🕞 Masa: 2.30 PM – 4.30 PM\n📍 Tempat: NADI Felda Jengka 16 (Secara online) \n🎯 Topik: Algebra is Awesome!\n💡 Sesi santai tapi padat dengan penerangan\, tips & trik Algebra supaya lebih mudah faham dan skor dalam peperiksaan! \n📞 Daftar sekarang (011 6259 1556) – singgah saja ke NADI Felda Jengka 16! \n#NADI #DILEA #WebinarMatematik #Algebra #PelajarCemerlang #BelajarMatematik
URL:https://jengka16.nadi.my/event/nadi-dilea-program-khas-webinar-berkala-matematik-edisi-3-algebra-is-awesome/
LOCATION:NADI FELDA JENGKA 16\, BLOK DEWAN JKKR FELDA JENGKA 16\, BANDAR JENGKA\, PAHANG\, 26400\, Malaysia
END:VEVENT
BEGIN:VEVENT
DTSTART;TZID=UTC:20250917T100000
DTEND;TZID=UTC:20250917T110000
DTSTAMP:20260423T161512
CREATED:20250910T145449Z
LAST-MODIFIED:20250910T145449Z
UID:4946-1758103200-1758106800@jengka16.nadi.my
SUMMARY:KEMPEN INTERNET SELAMAT: PENIPUAN CINTA
DESCRIPTION:🎉 JOM SERTAI WEBINAR KEMPEN INTERNET SELAMAT – PENIPUAN CINTA 💔📲 \nJangan mudah terpedaya dengan janji manis di alam maya. Penipuan cinta semakin berleluasa di Malaysia – lindungi diri anda sebelum terlambat! \n📑Topik : Penipuan Cinta\n📅 Tarikh : 17 September 2025 – Rabu\n🕙 Masa : 10.00 pagi – 11.00 pagi\n📍 Tempat : Atas talian (Microsoft Teams)\n🔗 Pautan webinar: https://bitly.cx/eWT5I \n📢 Terbuka kepada semua warganegara Malaysia . \n⚠ Webinar ini khas untuk NADI seperti berikut:\n* NADI Melaka\n* NADI Terengganu\n* NADI Pahang\n* NADI Johor\n* NADI Perak:\n– NADI Felda Trolak Timur\, Muallim\n– NADI Felda Gunung Besout 5\, Muallim\n– NADI Taman Hijau\, Muallim \n💡 Penyertaan adalah PERCUMA!\n📜 Sijil digital disediakan!! \n📞 Hubungi kami untuk maklumat lanjut:\n📲 011 6259 1556 (NADI Felda Jengka 16)\n📱 016-2527851 / 016-2698542\n📧 ssosafeshield@creativecenturymy.onmicrosoft.com \n📲 Imbas kod QR dalam poster untuk terus menyertai! \nJumpa anda dalam talian nanti!
URL:https://jengka16.nadi.my/event/kempen-internet-selamat-penipuan-cinta/
LOCATION:NADI FELDA JENGKA 16\, BLOK DEWAN JKKR FELDA JENGKA 16\, BANDAR JENGKA\, PAHANG\, 26400\, Malaysia
END:VEVENT
BEGIN:VEVENT
DTSTART;TZID=UTC:20250924T150000
DTEND;TZID=UTC:20250924T163000
DTSTAMP:20260423T161512
CREATED:20250923T125026Z
LAST-MODIFIED:20250923T125026Z
UID:5029-1758726000-1758731400@jengka16.nadi.my
SUMMARY:NADI X CYBERSECURITY: WEBINAR SIM SWAP: ANCAMAN SIBER KEPADA USAHAWAN SLOT 2
DESCRIPTION:Tarikh: 25 September 2025 (Sabtu) \nMasa: 3:00 PM – 4:30 PM \nTempat: NADI Felda Jengka 16
URL:https://jengka16.nadi.my/event/nadi-x-cybersecurity-webinar-sim-swap-ancaman-siber-kepada-usahawan-slot-2/
LOCATION:NADI FELDA JENGKA 16\, BLOK DEWAN JKKR FELDA JENGKA 16\, BANDAR JENGKA\, PAHANG\, 26400\, Malaysia
END:VEVENT
BEGIN:VEVENT
DTSTART;TZID=UTC:20250927T090000
DTEND;TZID=UTC:20250927T130000
DTSTAMP:20260423T161512
CREATED:20250923T124540Z
LAST-MODIFIED:20250923T124540Z
UID:5023-1758963600-1758978000@jengka16.nadi.my
SUMMARY:NADI X E-SUKAN: WEBINAR E-SUKA - BASIC SCRIPTWRITING FOR ANIMATION
DESCRIPTION:Tarikh: 27 September 2025 (Sabtu) \nMasa: 9:00 AM – 1:00 PM \nTempat: NADI Felda Jengka 16
URL:https://jengka16.nadi.my/event/nadi-x-e-sukan-webinar-e-suka-basic-scriptwriting-for-animation/
LOCATION:NADI FELDA JENGKA 16\, BLOK DEWAN JKKR FELDA JENGKA 16\, BANDAR JENGKA\, PAHANG\, 26400\, Malaysia
END:VEVENT
BEGIN:VEVENT
DTSTART;TZID=UTC:20250927T100000
DTEND;TZID=UTC:20250927T230000
DTSTAMP:20260423T161512
CREATED:20250923T125213Z
LAST-MODIFIED:20250923T125213Z
UID:5031-1758967200-1759014000@jengka16.nadi.my
SUMMARY:TINY TECHIES: BENGKEL MAHIR TINY TECHIES (SEKOLAH RENDAH)
DESCRIPTION:Tarikh: 27 September 2025 (Sabtu) \nMasa: 10:00 AM – 11:00 AM \nTempat: NADI Felda Jengka 16
URL:https://jengka16.nadi.my/event/tiny-techies-bengkel-mahir-tiny-techies-sekolah-rendah/
LOCATION:NADI FELDA JENGKA 16\, BLOK DEWAN JKKR FELDA JENGKA 16\, BANDAR JENGKA\, PAHANG\, 26400\, Malaysia
END:VEVENT
BEGIN:VEVENT
DTSTART;TZID=UTC:20250927T113000
DTEND;TZID=UTC:20250927T123000
DTSTAMP:20260423T161512
CREATED:20250923T125324Z
LAST-MODIFIED:20250923T125324Z
UID:5033-1758972600-1758976200@jengka16.nadi.my
SUMMARY:TINY TECHIES: BENGKEL MAHIR TINY TECHIES (SEKOLAH MENENGAH)
DESCRIPTION:Tarikh: 27 September 2025 (Sabtu) \nMasa: 11:30 AM – 12:30 PM \nTempat: NADI Felda Jengka 16
URL:https://jengka16.nadi.my/event/tiny-techies-bengkel-mahir-tiny-techies-sekolah-menengah/
LOCATION:NADI FELDA JENGKA 16\, BLOK DEWAN JKKR FELDA JENGKA 16\, BANDAR JENGKA\, PAHANG\, 26400\, Malaysia
END:VEVENT
BEGIN:VEVENT
DTSTART;TZID=UTC:20250927T143000
DTEND;TZID=UTC:20250927T163000
DTSTAMP:20260423T161512
CREATED:20250923T124753Z
LAST-MODIFIED:20250923T124823Z
UID:5026-1758983400-1758990600@jengka16.nadi.my
SUMMARY:NADI X DILEA: POGRAM KHAS WEBINAR BERKALA BAHASA MELAYU EDISI KE-4 - TATABAHASA (TINGKATAN 1 - 5)
DESCRIPTION:Tarikh: 27 September 2025 (Sabtu) \nMasa: 2:30 PM – 4:30 PM \nTempat: NADI Felda Jengka 16
URL:https://jengka16.nadi.my/event/nadi-x-dilea-pogram-khas-webinar-berkala-bahasa-melayu-edisi-ke-4-tatabahasa-tingkatan-1-5/
LOCATION:NADI FELDA JENGKA 16\, BLOK DEWAN JKKR FELDA JENGKA 16\, BANDAR JENGKA\, PAHANG\, 26400\, Malaysia
END:VEVENT
END:VCALENDAR