BEGIN:VCALENDAR
VERSION:2.0
PRODID:-//NADI Felda Jengka 16 - ECPv6.15.13.1//NONSGML v1.0//EN
CALSCALE:GREGORIAN
METHOD:PUBLISH
X-WR-CALNAME:NADI Felda Jengka 16
X-ORIGINAL-URL:https://jengka16.nadi.my
X-WR-CALDESC:Events for NADI Felda Jengka 16
REFRESH-INTERVAL;VALUE=DURATION:PT1H
X-Robots-Tag:noindex
X-PUBLISHED-TTL:PT1H
BEGIN:VTIMEZONE
TZID:UTC
BEGIN:STANDARD
TZOFFSETFROM:+0000
TZOFFSETTO:+0000
TZNAME:UTC
DTSTART:20240101T000000
END:STANDARD
END:VTIMEZONE
BEGIN:VEVENT
DTSTART;TZID=UTC:20251103T093000
DTEND;TZID=UTC:20251109T173000
DTSTAMP:20260422T063631
CREATED:20251031T204136Z
LAST-MODIFIED:20251031T204136Z
UID:5213-1762162200-1762709400@jengka16.nadi.my
SUMMARY:NADI DILEA: Tuisyen Rakyat – ENGLISH PROFICIENCY NOVEMBER 2025 LESSON 18 (TINGKATAN 4)
DESCRIPTION:Tarikh: 3-9 November 2025\nMasa: Waktu pembelajaran fleksibel\nTempat: NADI Felda Jengka 16
URL:https://jengka16.nadi.my/event/nadi-dilea-tuisyen-rakyat-english-proficiency-november-2025-lesson-18-tingkatan-4/
LOCATION:NADI FELDA JENGKA 16\, BLOK DEWAN JKKR FELDA JENGKA 16\, BANDAR JENGKA\, PAHANG\, 26400\, Malaysia
END:VEVENT
BEGIN:VEVENT
DTSTART;TZID=UTC:20251103T153000
DTEND;TZID=UTC:20251103T163000
DTSTAMP:20260422T063631
CREATED:20251031T204514Z
LAST-MODIFIED:20251031T204514Z
UID:5217-1762183800-1762187400@jengka16.nadi.my
SUMMARY:NADI DILEA: Tuisyen Rakyat – OPEN TUITION MATEMATIK TINGKATAN 1 - 5
DESCRIPTION:Tarikh: 3 November 2025\nMasa: 3:30 Petang – 4:30 Petang\nTempat: NADI Felda Jengka 16
URL:https://jengka16.nadi.my/event/nadi-dilea-tuisyen-rakyat-open-tuition-matematik-tingkatan-1-5-2/
LOCATION:NADI FELDA JENGKA 16\, BLOK DEWAN JKKR FELDA JENGKA 16\, BANDAR JENGKA\, PAHANG\, 26400\, Malaysia
END:VEVENT
BEGIN:VEVENT
DTSTART;TZID=UTC:20251104T153000
DTEND;TZID=UTC:20251104T163000
DTSTAMP:20260422T063631
CREATED:20251031T204611Z
LAST-MODIFIED:20251031T204611Z
UID:5219-1762270200-1762273800@jengka16.nadi.my
SUMMARY:NADI DILEA: Tuisyen Rakyat – OPEN TUITION BAHASA INGGERIS TINGKATAN 1 - 5
DESCRIPTION:Tarikh: 4 November 2025 \nMasa: 3:30 Petang – 4:30 Petang \nTempat: NADI Felda Jengka 16
URL:https://jengka16.nadi.my/event/nadi-dilea-tuisyen-rakyat-open-tuition-bahasa-inggeris-tingkatan-1-5-2/
LOCATION:NADI FELDA JENGKA 16\, BLOK DEWAN JKKR FELDA JENGKA 16\, BANDAR JENGKA\, PAHANG\, 26400\, Malaysia
END:VEVENT
BEGIN:VEVENT
DTSTART;TZID=UTC:20251106T153000
DTEND;TZID=UTC:20251106T163000
DTSTAMP:20260422T063631
CREATED:20251031T204702Z
LAST-MODIFIED:20251031T204702Z
UID:5221-1762443000-1762446600@jengka16.nadi.my
SUMMARY:NADI DILEA: Tuisyen Rakyat – OPEN TUITION BAHASA MELAYU TINGKATAN 1 - 5
DESCRIPTION:Tarikh: 6 November 2025 \nMasa: 3:30 Petang – 4:30 Petang \nTempat: NADI Felda Jengka 16
URL:https://jengka16.nadi.my/event/nadi-dilea-tuisyen-rakyat-open-tuition-bahasa-melayu-tingkatan-1-5-2/
LOCATION:NADI FELDA JENGKA 16\, BLOK DEWAN JKKR FELDA JENGKA 16\, BANDAR JENGKA\, PAHANG\, 26400\, Malaysia
END:VEVENT
BEGIN:VEVENT
DTSTART;TZID=UTC:20251108T143000
DTEND;TZID=UTC:20251108T163000
DTSTAMP:20260422T063631
CREATED:20251031T200132Z
LAST-MODIFIED:20251031T200132Z
UID:5198-1762612200-1762619400@jengka16.nadi.my
SUMMARY:NADI DILEA: Tuisyen Rakyat - PROGRAM KHAS WEBINAR GERAK GEMPUR SPM TINGKATAN 4 & 5 (TIPS & TRICKS SKOR A SPM SEJARAH) - CIKGU ILYA
DESCRIPTION:Tarikh: 8 November 2025 \nMasa: 2:30 Petang – 4:30 Petang \nTempat: NADI Felda Jengka 16
URL:https://jengka16.nadi.my/event/nadi-dilea-tuisyen-rakyat-program-khas-webinar-gerak-gempur-spm-tingkatan-4-5-tips-tricks-skor-a-spm-sejarah-cikgu-ilya/
LOCATION:NADI FELDA JENGKA 16\, BLOK DEWAN JKKR FELDA JENGKA 16\, BANDAR JENGKA\, PAHANG\, 26400\, Malaysia
END:VEVENT
BEGIN:VEVENT
DTSTART;TZID=UTC:20251110T153000
DTEND;TZID=UTC:20251110T163000
DTSTAMP:20260422T063631
CREATED:20251031T200419Z
LAST-MODIFIED:20251031T200419Z
UID:5202-1762788600-1762792200@jengka16.nadi.my
SUMMARY:NADI DILEA: Tuisyen Rakyat - GUIDANCE TUITION TINGKATAN 4 - MATEMATIK
DESCRIPTION:Tarikh: 10 November 2025\nMasa: 3:30 Petang – 4:30 Petang\nTempat: NADI Felda Jengka 16
URL:https://jengka16.nadi.my/event/nadi-dilea-tuisyen-rakyat-guidance-tuition-tingkatan-4-matematik/
LOCATION:NADI FELDA JENGKA 16\, BLOK DEWAN JKKR FELDA JENGKA 16\, BANDAR JENGKA\, PAHANG\, 26400\, Malaysia
END:VEVENT
BEGIN:VEVENT
DTSTART;TZID=UTC:20251110T153000
DTEND;TZID=UTC:20251110T163000
DTSTAMP:20260422T063631
CREATED:20251031T204759Z
LAST-MODIFIED:20251031T204759Z
UID:5223-1762788600-1762792200@jengka16.nadi.my
SUMMARY:NADI DILEA: Tuisyen Rakyat – OPEN TUITION SEJARAH TINGKATAN 1 - 5
DESCRIPTION:Tarikh: 10 November 2025 \nMasa: 3:30 Petang – 4:30 Petang \nTempat: NADI Felda Jengka 16
URL:https://jengka16.nadi.my/event/nadi-dilea-tuisyen-rakyat-open-tuition-sejarah-tingkatan-1-5-3/
LOCATION:NADI FELDA JENGKA 16\, BLOK DEWAN JKKR FELDA JENGKA 16\, BANDAR JENGKA\, PAHANG\, 26400\, Malaysia
END:VEVENT
BEGIN:VEVENT
DTSTART;TZID=UTC:20251111T153000
DTEND;TZID=UTC:20251111T163000
DTSTAMP:20260422T063631
CREATED:20251031T200606Z
LAST-MODIFIED:20251031T200606Z
UID:5204-1762875000-1762878600@jengka16.nadi.my
SUMMARY:NADI DILEA: Tuisyen Rakyat – GUIDANCE TUITION TINGKATAN 4 – BAHASA MELAYU
DESCRIPTION:Tarikh: 11 November 2025\nMasa: 3:30 Petang – 4:30 Petang\nTempat: NADI Felda Jengka 16
URL:https://jengka16.nadi.my/event/nadi-dilea-tuisyen-rakyat-guidance-tuition-tingkatan-4-bahasa-melayu/
LOCATION:NADI FELDA JENGKA 16\, BLOK DEWAN JKKR FELDA JENGKA 16\, BANDAR JENGKA\, PAHANG\, 26400\, Malaysia
END:VEVENT
BEGIN:VEVENT
DTSTART;TZID=UTC:20251113T153000
DTEND;TZID=UTC:20251113T163000
DTSTAMP:20260422T063631
CREATED:20251031T200724Z
LAST-MODIFIED:20251031T200724Z
UID:5206-1763047800-1763051400@jengka16.nadi.my
SUMMARY:NADI DILEA: Tuisyen Rakyat – GUIDANCE TUITION TINGKATAN 4 – SEJARAH
DESCRIPTION:Tarikh: 13 November 2025\nMasa: 3:30 Petang – 4:30 Petang\nTempat: NADI Felda Jengka 16
URL:https://jengka16.nadi.my/event/nadi-dilea-tuisyen-rakyat-guidance-tuition-tingkatan-4-sejarah/
LOCATION:NADI FELDA JENGKA 16\, BLOK DEWAN JKKR FELDA JENGKA 16\, BANDAR JENGKA\, PAHANG\, 26400\, Malaysia
END:VEVENT
BEGIN:VEVENT
DTSTART;TZID=UTC:20251113T153000
DTEND;TZID=UTC:20251113T163000
DTSTAMP:20260422T063631
CREATED:20251031T204901Z
LAST-MODIFIED:20251031T204901Z
UID:5225-1763047800-1763051400@jengka16.nadi.my
SUMMARY:NADI DILEA: Tuisyen Rakyat – OPEN TUITION SAINS TINGKATAN 1 - 5
DESCRIPTION:Tarikh: 13 November 2025 \nMasa: 3:30 Petang – 4:30 Petang \nTempat: NADI Felda Jengka 16
URL:https://jengka16.nadi.my/event/nadi-dilea-tuisyen-rakyat-open-tuition-sains-tingkatan-1-5-4/
LOCATION:NADI FELDA JENGKA 16\, BLOK DEWAN JKKR FELDA JENGKA 16\, BANDAR JENGKA\, PAHANG\, 26400\, Malaysia
END:VEVENT
BEGIN:VEVENT
DTSTART;TZID=UTC:20251114T144500
DTEND;TZID=UTC:20251114T154500
DTSTAMP:20260422T063631
CREATED:20251031T200847Z
LAST-MODIFIED:20251031T200847Z
UID:5209-1763131500-1763135100@jengka16.nadi.my
SUMMARY:NADI DILEA: Tuisyen Rakyat – GUIDANCE TUITION TINGKATAN 4 – BAHASA INGGERIS
DESCRIPTION:Tarikh: 14 November 2025\nMasa: 2:45 Petang – 3:45 Petang\nTempat: NADI Felda Jengka 16
URL:https://jengka16.nadi.my/event/nadi-dilea-tuisyen-rakyat-guidance-tuition-tingkatan-4-bahasa-inggeris/
LOCATION:NADI FELDA JENGKA 16\, BLOK DEWAN JKKR FELDA JENGKA 16\, BANDAR JENGKA\, PAHANG\, 26400\, Malaysia
END:VEVENT
BEGIN:VEVENT
DTSTART;TZID=UTC:20251115T090000
DTEND;TZID=UTC:20251115T160000
DTSTAMP:20260422T063631
CREATED:20251031T203606Z
LAST-MODIFIED:20251031T203606Z
UID:5211-1763197200-1763222400@jengka16.nadi.my
SUMMARY:NADI E-SUKAN: PERTANDINGAN MOBILE LEGEND PERINGKAT NEGERI MUSIM KE- 3 (GROUP STAGE)
DESCRIPTION:Tarikh: 15 November 2025\nMasa: 9:00 Pagi\nTempat: NADI Felda Jengka 16
URL:https://jengka16.nadi.my/event/nadi-e-sukan-pertandingan-mobile-legend-peringkat-negeri-musim-ke-3-group-stage/
LOCATION:NADI FELDA JENGKA 16\, BLOK DEWAN JKKR FELDA JENGKA 16\, BANDAR JENGKA\, PAHANG\, 26400\, Malaysia
END:VEVENT
BEGIN:VEVENT
DTSTART;TZID=UTC:20251117T093000
DTEND;TZID=UTC:20251123T173000
DTSTAMP:20260422T063631
CREATED:20251031T204248Z
LAST-MODIFIED:20251031T204248Z
UID:5215-1763371800-1763919000@jengka16.nadi.my
SUMMARY:NADI DILEA: Tuisyen Rakyat – ENGLISH PROFICIENCY NOVEMBER 2025 LESSON 19 (TINGKATAN 4)
DESCRIPTION:Tarikh: 17-23 November 2025\nMasa: Waktu pembelajaran fleksibel\nTempat: NADI Felda Jengka 16
URL:https://jengka16.nadi.my/event/nadi-dilea-tuisyen-rakyat-english-proficiency-november-2025-lesson-19-tingkatan-4/
LOCATION:NADI FELDA JENGKA 16\, BLOK DEWAN JKKR FELDA JENGKA 16\, BANDAR JENGKA\, PAHANG\, 26400\, Malaysia
END:VEVENT
BEGIN:VEVENT
DTSTART;TZID=UTC:20251117T153000
DTEND;TZID=UTC:20251117T163000
DTSTAMP:20260422T063631
CREATED:20251031T205004Z
LAST-MODIFIED:20251031T205004Z
UID:5228-1763393400-1763397000@jengka16.nadi.my
SUMMARY:NADI DILEA: Tuisyen Rakyat – OPEN TUITION MATEMATIK TINGKATAN 1 - 5
DESCRIPTION:Tarikh: 17 November 2025 \nMasa: 3:30 Petang – 4:30 Petang \nTempat: NADI Felda Jengka 16
URL:https://jengka16.nadi.my/event/nadi-dilea-tuisyen-rakyat-open-tuition-matematik-tingkatan-1-5-3/
LOCATION:NADI FELDA JENGKA 16\, BLOK DEWAN JKKR FELDA JENGKA 16\, BANDAR JENGKA\, PAHANG\, 26400\, Malaysia
END:VEVENT
BEGIN:VEVENT
DTSTART;TZID=UTC:20251118T153000
DTEND;TZID=UTC:20251118T163000
DTSTAMP:20260422T063631
CREATED:20251031T205059Z
LAST-MODIFIED:20251031T205059Z
UID:5230-1763479800-1763483400@jengka16.nadi.my
SUMMARY:NADI DILEA: Tuisyen Rakyat – OPEN TUITION BAHASA INGGERIS TINGKATAN 1 - 5
DESCRIPTION:Tarikh: 18 November 2025 \nMasa: 3:30 Petang – 4:30 Petang \nTempat: NADI Felda Jengka 16
URL:https://jengka16.nadi.my/event/nadi-dilea-tuisyen-rakyat-open-tuition-bahasa-inggeris-tingkatan-1-5-3/
LOCATION:NADI FELDA JENGKA 16\, BLOK DEWAN JKKR FELDA JENGKA 16\, BANDAR JENGKA\, PAHANG\, 26400\, Malaysia
END:VEVENT
BEGIN:VEVENT
DTSTART;TZID=UTC:20251120T153000
DTEND;TZID=UTC:20251120T163000
DTSTAMP:20260422T063631
CREATED:20251031T205145Z
LAST-MODIFIED:20251031T205145Z
UID:5232-1763652600-1763656200@jengka16.nadi.my
SUMMARY:NADI DILEA: Tuisyen Rakyat – OPEN TUITION BAHASA MELAYU TINGKATAN 1 - 5
DESCRIPTION:Tarikh: 20 November 2025\nMasa: 3:30 Petang – 4:30 Petang\nTempat: NADI Felda Jengka 16
URL:https://jengka16.nadi.my/event/nadi-dilea-tuisyen-rakyat-open-tuition-bahasa-melayu-tingkatan-1-5-3/
LOCATION:NADI FELDA JENGKA 16\, BLOK DEWAN JKKR FELDA JENGKA 16\, BANDAR JENGKA\, PAHANG\, 26400\, Malaysia
END:VEVENT
BEGIN:VEVENT
DTSTART;TZID=UTC:20251124T153000
DTEND;TZID=UTC:20251124T163000
DTSTAMP:20260422T063631
CREATED:20251031T205233Z
LAST-MODIFIED:20251031T205233Z
UID:5234-1763998200-1764001800@jengka16.nadi.my
SUMMARY:NADI DILEA: Tuisyen Rakyat – OPEN TUITION SEJARAH TINGKATAN 1 - 5
DESCRIPTION:Tarikh: 24 November 2025\nMasa: 3:30 Petang – 4:30 Petang\nTempat: NADI Felda Jengka 16
URL:https://jengka16.nadi.my/event/nadi-dilea-tuisyen-rakyat-open-tuition-sejarah-tingkatan-1-5-4/
LOCATION:NADI FELDA JENGKA 16\, BLOK DEWAN JKKR FELDA JENGKA 16\, BANDAR JENGKA\, PAHANG\, 26400\, Malaysia
END:VEVENT
BEGIN:VEVENT
DTSTART;TZID=UTC:20251127T153000
DTEND;TZID=UTC:20251127T163000
DTSTAMP:20260422T063631
CREATED:20251031T205322Z
LAST-MODIFIED:20251031T205322Z
UID:5236-1764257400-1764261000@jengka16.nadi.my
SUMMARY:NADI DILEA: Tuisyen Rakyat – OPEN TUITION SAINS TINGKATAN 1 - 5
DESCRIPTION:Tarikh: 27 November 2025\nMasa: 3:30 Petang – 4:30 Petang\nTempat: NADI Felda Jengka 16
URL:https://jengka16.nadi.my/event/nadi-dilea-tuisyen-rakyat-open-tuition-sains-tingkatan-1-5-5/
LOCATION:NADI FELDA JENGKA 16\, BLOK DEWAN JKKR FELDA JENGKA 16\, BANDAR JENGKA\, PAHANG\, 26400\, Malaysia
END:VEVENT
BEGIN:VEVENT
DTSTART;TZID=UTC:20251129T143000
DTEND;TZID=UTC:20251129T163000
DTSTAMP:20260422T063631
CREATED:20251124T070504Z
LAST-MODIFIED:20251124T070504Z
UID:5306-1764426600-1764433800@jengka16.nadi.my
SUMMARY:NADI DILEA: Tuisyen Rakyat – PROGRAM KHAS WEBINAR GERAK GEMPUR SPM TINGKATAN 4 & 5 - MATEMATIK ASAS NOMBOR / KEBARANGKALIAN / KEWANGAN / LOGIK / TEORI GRAF
DESCRIPTION:Tarikh: 29 November 2025 \nMasa: 2:30 Petang – 4:30 Petang \nTempat: NADI Felda Jengka 16
URL:https://jengka16.nadi.my/event/nadi-dilea-tuisyen-rakyat-program-khas-webinar-gerak-gempur-spm-tingkatan-4-5-matematik-asas-nombor-kebarangkalian-kewangan-logik-teori-graf/
LOCATION:PAHANG
END:VEVENT
END:VCALENDAR